{"text_format":"1","workbook":"xlsx","n_sheets":4,"sheets":["Sheet1","ref","temp","dif"],"not_rendered":{"charts":13,"images":0,"macros":1,"external_links":0,"defined_names":0,"comments":0,"pivot_tables":0},"unopened":[],"bounds":{"document_bytes":16777216,"sheet_cells":100000,"rows_first":2000,"rows_last":500,"rows_between":2000,"halvings":0,"cell_chars":16384,"cell_head_chars":4096},"cells_cut":0,"cells_raw":0,"read":"whole","date_system":"1900"}

{"sheet":"Sheet1","index":0,"n_rows":47,"n_cols":23,"rows_kept":47,"cut":false,"hidden":false,"merged":[[30,0,36,0],[0,4,0,22],[1,5,1,8],[1,10,1,11],[2,22,13,22],[4,0,25,0],[1,12,1,13],[1,14,1,15],[1,16,1,19],[1,20,1,21]]}
[null,"D:\\N10\\5座\\5座计算0328-2\\5座计算0403 - 减墙加端柱 -加标准层\\设计结果",null,null,"YJK结构整体参数速校表 — design by 林霄云 2018.3.31"]
[null,"wmass.out",null,null,"9.质量比","3.刚度比",null,null,null,"6.刚重比","4.受剪承载力比",null,"2.周期比",null,"7.剪重比",null,"5.位移角",null,null,null,"1.位移比",null,"8.轴压比"]
[null,null,null,null,null,null,null,null,null,null,null,null,null,null,null,null,null,null,null,null,null,null,"自\n\n行\n\n查\n\n校"]
[null,null,null,null,null,null,null,"X方向最小刚度比:","Y方向最小刚度比:",null,null,null,null,null,"X向楼层最小剪重比","Y向楼层最小剪重比"]
["说明：\n点击生成按钮，将自动更新非填充区数据，及简易图表，以便于快速查阅。切换目录仅需删除B1单元格数据，注意不要修改工作表名",null,null,null,null,null,null,"1.0000(3层1塔)","1.0000(3层1塔)",null,null,null,null,null,1.6E-2,1.6E-2,"  X向最大层间位移角：  1/2161  (15层1塔)","  Y向最大层间位移角：  1/1373  (39层1塔)","  X向最大层间位移角：  1/2374  (39层1塔)","  Y向最大层间位移角：  1/760  (39层1塔)"]
[null,"层号","层高(m)","单位面积质量","g[i]","Ratx1=","Raty1=","Ratx2=","Raty2=","X向刚重比 EJd/GH**2= 7.127","Ratio_X","Ratio_Y","周期","平动系数(X+Y)","X 向剪重比","Y 向剪重比","X方向地震层间位移角","Y方向地震层间位移角","+X 方向风荷载层间位移角","+Y 方向风荷载层间位移角","X方向位移比","Y方向位移比"]
[null,39,4.3499999999999996,1305.83,0.6,1,1,1,1,"Y向刚重比 EJd/GH**2= 4.798",1,1,3.0604,"1.00(0.00+1.00)",8.4400000000000003E-2,0.13300000000000001,{"$f":"1/2664","v":3.7537537537537537E-4},{"$f":"1/1373","v":7.2833211944646763E-4},{"$f":"1/2374","v":4.2122999157540015E-4},{"$f":"1/760","v":1.3157894736842105E-3},1.19,1.03]
[null,38,3.3,2173.0300000000002,1.66,5.9820000000000002,5.2378999999999998,3.5295999999999998,3.0905999999999998,"该结构刚重比EJd/GH**2大于1.4，能够通过《高规》5.4.4条的整体稳定验算",1.75,4.8499999999999996,2.4392,"0.91(0.91+0.00)",5.9799999999999999E-2,8.2839999999999997E-2,{"$f":"1/2759","v":3.6245016310257339E-4},{"$f":"1/1409","v":7.0972320794889996E-4},{"$f":"1/3470","v":2.8818443804034583E-4},{"$f":"1/813","v":1.2300123001230013E-3},1.1599999999999999,1.1000000000000001]
[null,37,3.15,1800.75,1,2.2336999999999998,2.1120999999999999,1.6583000000000001,1.5681,"该结构刚重比EJd/GH**2大于2.7，满足《高规》5.4.1，可以不考虑重力二阶效应",1.41,1.02,1.3130999999999999,"0.09(0.09+0.00)",5.2839999999999998E-2,7.2230000000000003E-2,{"$f":"1/2880","v":3.4722222222222224E-4},{"$f":"1/1411","v":7.0871722182849046E-4},{"$f":"1/3618","v":2.7639579878385847E-4},{"$f":"1/816","v":1.2254901960784314E-3},1.21,1.07]
[null,36,3.15,1800.1,1,1.6964999999999999,1.7351000000000001,1.3194999999999999,1.3494999999999999,null,1.02,1.02,0.70879999999999999,"0.88(0.88+0.00)",4.7359999999999999E-2,6.386E-2,{"$f":"1/2805","v":3.5650623885918003E-4},{"$f":"1/1405","v":7.1174377224199293E-4},{"$f":"1/3545","v":2.8208744710860365E-4},{"$f":"1/815","v":1.2269938650306749E-3}]
[null,35,3.15,1800.1,1,1.5905,1.6141000000000001,1.2371000000000001,1.2554000000000001,null,1.02,1.02,0.62560000000000004,"1.00(0.00+1.00)",4.2779999999999999E-2,5.6809999999999999E-2,{"$f":"1/2719","v":3.677822728944465E-4},{"$f":"1/1400","v":7.1428571428571429E-4},{"$f":"1/3462","v":2.8885037550548814E-4},{"$f":"1/813","v":1.2300123001230013E-3}]
[null,34,3.15,1800.1,1,1.5239,1.5535000000000001,1.1986000000000001,1.2081999999999999,null,1.02,1.02,"X向平动振型参与质量系数总计:",0.94769999999999999,3.9039999999999998E-2,5.0939999999999999E-2,{"$f":"1/2633","v":3.7979491074819596E-4},{"$f":"1/1396","v":7.1633237822349568E-4},{"$f":"1/3369","v":2.9682398337785694E-4},{"$f":"1/812","v":1.2315270935960591E-3}]
[null,33,3.15,1800.1,1,1.4434,1.4618,1.1801999999999999,1.1839999999999999,null,1.02,1.02,"Y向平动振型参与质量系数总计:",0.95430000000000004,3.6150000000000002E-2,4.614E-2,{"$f":"1/2554","v":3.9154267815191856E-4},{"$f":"1/1394","v":7.173601147776184E-4},{"$f":"1/3275","v":3.0534351145038169E-4},{"$f":"1/811","v":1.2330456226880395E-3}]
[null,32,3.15,1800.1,1,1.4039999999999999,1.4096,1.1708000000000001,1.1700999999999999,null,1.02,1.02,"第1扭转周期(1.3131)/第1平动周期(3.0604)",0.43,3.3989999999999999E-2,4.2200000000000001E-2,{"$f":"1/2484","v":4.0257648953301127E-4},{"$f":"1/1393","v":7.1787508973438624E-4},{"$f":"1/3184","v":3.1407035175879397E-4},{"$f":"1/810","v":1.2345679012345679E-3}]
[null,31,3.15,1800.1,1.07,1.3773,1.3757999999999999,1.1599999999999999,1.1579999999999999,null,1.02,1.02,null,null,3.2250000000000001E-2,3.8890000000000001E-2,{"$f":"1/2407","v":4.1545492314083921E-4},{"$f":"1/1392","v":7.1839080459770114E-4},{"$f":"1/3075","v":3.2520325203252032E-4},{"$f":"1/809","v":1.2360939431396785E-3}]
[null,30,3,1683.18,0.94,1.4066000000000001,1.4136,1.1378999999999999,1.1451,null,0.95,0.96,null,null,3.0710000000000001E-2,3.6069999999999998E-2,{"$f":"1/2335","v":4.2826552462526765E-4},{"$f":"1/1391","v":7.1890726096333576E-4},{"$f":"1/2967","v":3.370407819346141E-4},{"$f":"1/807","v":1.2391573729863693E-3}]
[null,29,3.15,1800.75,1.07,1.327,1.3160000000000001,1.1645000000000001,1.1508,null,1.0900000000000001,1.01,null,null,2.92E-2,3.3450000000000001E-2,{"$f":"1/2329","v":4.2936882782310007E-4},{"$f":"1/1407","v":7.1073205401563609E-4},{"$f":"1/2947","v":3.3932813030200206E-4},{"$f":"1/814","v":1.2285012285012285E-3}]
[null,28,3.15,1800.1,1,1.3091999999999999,1.3011999999999999,1.1378999999999999,1.1375999999999999,null,1.02,1,null,null,2.777E-2,3.108E-2,{"$f":"1/2291","v":4.3649061545176777E-4},{"$f":"1/1417","v":7.0571630204657732E-4},{"$f":"1/2876","v":3.4770514603616132E-4},{"$f":"1/817","v":1.2239902080783353E-3}]
[null,27,3.15,1800.1,1,1.2970999999999999,1.2907999999999999,1.1355,1.1347,null,1.02,1.01,null,null,2.6450000000000001E-2,2.896E-2,{"$f":"1/2262","v":4.4208664898320068E-4},{"$f":"1/1429","v":6.9979006298110562E-4},{"$f":"1/2815","v":3.5523978685612787E-4},{"$f":"1/821","v":1.2180267965895249E-3}]
[null,26,3.15,1800.1,1,1.3047,1.3051999999999999,1.1342000000000001,1.1353,null,1.01,1.1000000000000001,null,null,2.5239999999999999E-2,2.7119999999999998E-2,{"$f":"1/2239","v":4.4662795891022776E-4},{"$f":"1/1444","v":6.925207756232687E-4},{"$f":"1/2761","v":3.6218761318362912E-4},{"$f":"1/827","v":1.2091898428053204E-3}]
[null,25,3.15,1800.1,1,1.3069,1.3087,1.1377999999999999,1.1389,null,1.08,1.0900000000000001,null,null,2.4160000000000001E-2,2.5569999999999999E-2,{"$f":"1/2227","v":4.4903457566232598E-4},{"$f":"1/1463","v":6.8352699931647305E-4},{"$f":"1/2721","v":3.6751194413818452E-4},{"$f":"1/834","v":1.199040767386091E-3}]
[null,24,3.15,1800.1,1,1.304,1.3157000000000001,1.1333,1.1424000000000001,null,1.01,1.01,null,null,2.3199999999999998E-2,2.427E-2,{"$f":"1/2211","v":4.5228403437358661E-4},{"$f":"1/1483","v":6.7430883344571813E-4},{"$f":"1/2677","v":3.7355248412401944E-4},{"$f":"1/842","v":1.1876484560570072E-3}]
[null,23,3.15,1800.1,1,1.3022,1.3264,1.1335,1.1482000000000001,null,1.01,0.93,null,null,2.232E-2,2.3199999999999998E-2,{"$f":"1/2197","v":4.5516613563950843E-4},{"$f":"1/1507","v":6.6357000663570006E-4},{"$f":"1/2637","v":3.7921880925293893E-4},{"$f":"1/852","v":1.1737089201877935E-3}]
[null,22,3.15,1800.1,1,1.3018000000000001,1.3391,1.1345000000000001,1.1540999999999999,null,1.01,1.01,null,null,2.155E-2,2.2329999999999999E-2,{"$f":"1/2186","v":4.5745654162854531E-4},{"$f":"1/1533","v":6.5231572080887146E-4},{"$f":"1/2603","v":3.84172109104879E-4},{"$f":"1/864","v":1.1574074074074073E-3}]
[null,21,3.15,1800.1,1,1.3046,1.3526,1.1362000000000001,1.1599999999999999,null,1.01,1.01,null,null,2.087E-2,2.162E-2,{"$f":"1/2179","v":4.5892611289582378E-4},{"$f":"1/1563","v":6.3979526551503517E-4},{"$f":"1/2575","v":3.8834951456310682E-4},{"$f":"1/878","v":1.1389521640091116E-3}]
[null,20,3.15,1800.1,1,1.3107,1.3662000000000001,1.1400999999999999,1.1657999999999999,null,1.07,1.08,null,null,2.0279999999999999E-2,2.1059999999999999E-2,{"$f":"1/2180","v":4.5871559633027525E-4},{"$f":"1/1598","v":6.2578222778473093E-4},{"$f":"1/2559","v":3.9077764751856197E-4},{"$f":"1/894","v":1.1185682326621924E-3}]
[null,19,3.15,1800.1,1,1.3122,1.3782000000000001,1.1383000000000001,1.1702999999999999,null,1.01,1.1000000000000001,null,null,1.976E-2,2.0619999999999999E-2,{"$f":"1/2178","v":4.591368227731864E-4},{"$f":"1/1636","v":6.1124694376528117E-4},{"$f":"1/2540","v":3.937007874015748E-4},{"$f":"1/913","v":1.0952902519167579E-3}]
[null,18,3.15,1800.1,1,1.3139000000000001,1.3907,1.1396999999999999,1.1760999999999999,null,1.01,1.01,null,null,1.9310000000000001E-2,2.0289999999999999E-2,{"$f":"1/2177","v":4.5934772622875517E-4},{"$f":"1/1678","v":5.9594755661501785E-4},{"$f":"1/2526","v":3.9588281868566902E-4},{"$f":"1/934","v":1.0706638115631692E-3}]
[null,17,3.15,1800.1,1,1.3172999999999999,1.4036999999999999,1.1423000000000001,1.1819,null,1.02,0.92,null,null,1.8919999999999999E-2,2.0049999999999998E-2,{"$f":"1/2180","v":4.5871559633027525E-4},{"$f":"1/1726","v":5.7937427578215526E-4},{"$f":"1/2519","v":3.9698292973402142E-4},{"$f":"1/958","v":1.0438413361169101E-3}]
[null,16,3.15,1800.1,1.07,1.3159000000000001,1.4141999999999999,1.1389,1.1851,null,1.01,1,null,null,1.8589999999999999E-2,1.9879999999999998E-2,{"$f":"1/2173","v":4.6019328117809482E-4},{"$f":"1/1776","v":5.6306306306306306E-4},{"$f":"1/2496","v":4.0064102564102563E-4},{"$f":"1/985","v":1.0152284263959391E-3}]
["注：\n保存至temp工作表，可以在dif工作表中查看变化",15,3,1683.18,0.94,1.3754999999999999,1.4936,1.1352,1.1880999999999999,null,0.99,1.01,null,null,1.83E-2,1.9779999999999999E-2,{"$f":"1/2161","v":4.6274872744099955E-4},{"$f":"1/1833","v":5.455537370430987E-4},{"$f":"1/2468","v":4.051863857374392E-4},{"$f":"1/1015","v":9.8522167487684722E-4}]
[null,14,3.15,1824.03,1.08,1.3340000000000001,1.4350000000000001,1.1794,1.2169000000000001,null,1.06,1.21,null,null,1.805E-2,1.9740000000000001E-2,{"$f":"1/2232","v":4.4802867383512545E-4},{"$f":"1/1933","v":5.1733057423693739E-4},{"$f":"1/2565","v":3.8986354775828459E-4},{"$f":"1/1070","v":9.3457943925233649E-4}]
[null,13,3.15,1823.21,1,1.3419000000000001,1.4443999999999999,1.1575,1.2037,null,1.02,1,null,null,1.7840000000000002E-2,1.9740000000000001E-2,{"$f":"1/2259","v":4.4267374944665782E-4},{"$f":"1/2014","v":4.965243296921549E-4},{"$f":"1/2596","v":3.8520801232665641E-4},{"$f":"1/1116","v":8.960573476702509E-4}]
[null,12,3.15,1823.21,1,1.3481000000000001,1.4537,1.1620999999999999,1.2095,null,1.01,1,null,null,1.7670000000000002E-2,1.976E-2,{"$f":"1/2297","v":4.3535045711797995E-4},{"$f":"1/2110","v":4.7393364928909954E-4},{"$f":"1/2641","v":3.786444528587656E-4},{"$f":"1/1170","v":8.547008547008547E-4}]
[null,11,3.15,1823.21,1,1.369,1.4830000000000001,1.1657,1.2157,null,1.01,1,null,null,1.7510000000000001E-2,1.9789999999999999E-2,{"$f":"1/2344","v":4.2662116040955632E-4},{"$f":"1/2223","v":4.4984255510571302E-4},{"$f":"1/2699","v":3.7050759540570581E-4},{"$f":"1/1235","v":8.0971659919028337E-4}]
[null,10,3.15,1823.21,1,1.3829,1.4982,1.1737,1.2223999999999999,null,1.05,0.97,null,null,1.7389999999999999E-2,1.9810000000000001E-2,{"$f":"1/2410","v":4.1493775933609957E-4},{"$f":"1/2358","v":4.2408821034775233E-4},{"$f":"1/2781","v":3.595828838547285E-4},{"$f":"1/1313","v":7.6161462300076163E-4}]
[null,9,3.15,1823.21,1,1.3918999999999999,1.5123,1.175,1.2276,null,1.01,1,null,null,1.728E-2,1.9820000000000001E-2,{"$f":"1/2484","v":4.0257648953301127E-4},{"$f":"1/2516","v":3.9745627980922101E-4},{"$f":"1/2873","v":3.4806822137138882E-4},{"$f":"1/1406","v":7.1123755334281653E-4}]
[null,8,3.15,1823.21,1,1.405,1.5310999999999999,1.1827000000000001,1.2375,null,1.01,1,null,null,1.7180000000000001E-2,1.9820000000000001E-2,{"$f":"1/2582","v":3.8729666924864449E-4},{"$f":"1/2713","v":3.6859565057132326E-4},{"$f":"1/2993","v":3.3411293017039759E-4},{"$f":"1/1522","v":6.5703022339027597E-4}]
[null,7,3.15,1823.21,1,1.4247000000000001,1.5581,1.1938,1.2514000000000001,null,1,1.04,null,null,1.7059999999999999E-2,1.9800000000000002E-2,{"$f":"1/2714","v":3.6845983787767134E-4},{"$f":"1/2963","v":3.3749578130273371E-4},{"$f":"1/3153","v":3.1715826197272439E-4},{"$f":"1/1671","v":5.9844404548174744E-4}]
[null,6,3.15,1823.21,1,1.4572000000000001,1.5985,1.2111000000000001,1.2717000000000001,null,1.01,1.05,null,null,1.694E-2,1.9740000000000001E-2,{"$f":"1/2902","v":3.4458993797381116E-4},{"$f":"1/3298","v":3.0321406913280777E-4},{"$f":"1/3378","v":2.9603315571343988E-4},{"$f":"1/1871","v":5.3447354355959376E-4}]
[null,5,3.15,1823.21,1,1.5088999999999999,1.6608000000000001,1.2390000000000001,1.3037000000000001,null,1.05,1,null,null,1.6789999999999999E-2,1.9640000000000001E-2,{"$f":"1/3182","v":3.1426775612822125E-4},{"$f":"1/3773","v":2.6504108136761196E-4},{"$f":"1/3710","v":2.6954177897574127E-4},{"$f":"1/2048","v":4.8828125E-4}]
[null,4,3.15,1823.21,1,1.6466000000000001,1.7724,1.3268,1.3785000000000001,null,1.1000000000000001,0.94,null,null,1.66E-2,1.949E-2,{"$f":"1/3722","v":2.6867275658248256E-4},{"$f":"1/4573","v":2.1867483052700635E-4},{"$f":"1/4350","v":2.2988505747126436E-4},{"$f":"1/2432","v":4.1118421052631577E-4}]
[null,3,6.45,3090.35,1.7,1.0363,1.0851,1.6503000000000001,1.7281,null,1.0900000000000001,1.1499999999999999,null,null,1.627E-2,1.924E-2,{"$f":"1/5224","v":1.9142419601837673E-4},{"$f":"1/6873","v":1.4549687181725592E-4},{"$f":"1/6090","v":1.6420361247947455E-4},{"$f":"1/3899","v":2.5647601949217746E-4}]
[null,2,4.5999999999999996,2798.82,1.8,6.694,3.6196000000000002,4.9976000000000003,2.5834999999999999,null,2.2000000000000002,1.21,null,null,1.5350000000000001E-2,1.84E-2,{"$f":"1/9999","v":1.0001000100010001E-4},{"$f":"1/9999","v":1.0001000100010001E-4},{"$f":"1/9999","v":1.0001000100010001E-4},{"$f":"1/7677","v":1.3025921583952066E-4}]
[null,1,3.7,1550.94,0.55000000000000004,3.9731000000000001,4.9450000000000003,1.4914000000000001,1.8562000000000001,null,1.1499999999999999,1.1200000000000001,null,null,1.457E-2,1.746E-2,{"$f":"1/9999","v":1.0001000100010001E-4},{"$f":"1/9999","v":1.0001000100010001E-4},{"$f":"1/9999","v":1.0001000100010001E-4},{"$f":"1/9999","v":1.0001000100010001E-4}]
[null,null,{"$f":" SUM($C$7:$C$45)","v":129.20000000000005},1305.83,null,1,1,1,1,null,0.95,0.92,null,null,1.457E-2,1.746E-2,1.0001000100010001E-4,1.0001000100010001E-4,1.0001000100010001E-4,1.0001000100010001E-4]
[null,null,null,3090.35,null,6.694,5.2378999999999998,4.9976000000000003,3.0905999999999998,null,2.2000000000000002,4.8499999999999996,null,null,8.4400000000000003E-2,0.13300000000000001,4.6274872744099955E-4,7.2833211944646763E-4,4.2122999157540015E-4,1.3157894736842105E-3]

{"sheet":"ref","index":1,"n_rows":45,"n_cols":4,"rows_kept":45,"cut":false,"hidden":false,"merged":[]}
["限值1","限值0.8","抗震规范(5.2.5)条要求的X向楼层最小剪重比 = 1.60","抗震规范(5.2.5)条要求的Y向楼层最小剪重比 = 1.60"]
[]
[]
[]
[]
[]
[1,0.8,1.6E-2,1.6E-2]
[1,0.8,1.6E-2,1.6E-2]
[1,0.8,1.6E-2,1.6E-2]
[1,0.8,1.6E-2,1.6E-2]
[1,0.8,1.6E-2,1.6E-2]
[1,0.8,1.6E-2,1.6E-2]
[1,0.8,1.6E-2,1.6E-2]
[1,0.8,1.6E-2,1.6E-2]
[1,0.8,1.6E-2,1.6E-2]
[1,0.8,1.6E-2,1.6E-2]
[1,0.8,1.6E-2,1.6E-2]
[1,0.8,1.6E-2,1.6E-2]
[1,0.8,1.6E-2,1.6E-2]
[1,0.8,1.6E-2,1.6E-2]
[1,0.8,1.6E-2,1.6E-2]
[1,0.8,1.6E-2,1.6E-2]
[1,0.8,1.6E-2,1.6E-2]
[1,0.8,1.6E-2,1.6E-2]
[1,0.8,1.6E-2,1.6E-2]
[1,0.8,1.6E-2,1.6E-2]
[1,0.8,1.6E-2,1.6E-2]
[1,0.8,1.6E-2,1.6E-2]
[1,0.8,1.6E-2,1.6E-2]
[1,0.8,1.6E-2,1.6E-2]
[1,0.8,1.6E-2,1.6E-2]
[1,0.8,1.6E-2,1.6E-2]
[1,0.8,1.6E-2,1.6E-2]
[1,0.8,1.6E-2,1.6E-2]
[1,0.8,1.6E-2,1.6E-2]
[1,0.8,1.6E-2,1.6E-2]
[1,0.8,1.6E-2,1.6E-2]
[1,0.8,1.6E-2,1.6E-2]
[1,0.8,1.6E-2,1.6E-2]
[1,0.8,1.6E-2,1.6E-2]
[null,null,1.6E-2,1.6E-2]
[null,null,1.6E-2,1.6E-2]
[null,null,1.6E-2,1.6E-2]
[null,null,1.6E-2,1.6E-2]
[null,null,1.6E-2,1.6E-2]

{"sheet":"temp","index":2,"n_rows":47,"n_cols":22,"rows_kept":47,"cut":false,"hidden":false,"merged":[[4,0,25,0],[0,4,0,21],[1,20,1,21],[1,5,1,8],[1,10,1,11],[1,12,1,13],[1,14,1,15],[1,16,1,19]]}
[null,"D:\\N10\\5座\\5座计算0328-2\\5座计算0403 - 减墙加端柱 -加标准层 - lt250\\设计结果",null,null,"YJK结构整体参数速校表 — design by 林霄云 2018.3.31"]
[null,"wmass.out",null,null,"9.质量比","3.刚度比",null,null,null,"6.刚重比","4.受剪承载力比",null,"2.周期比",null,"7.剪重比",null,"5.位移角",null,null,null,"1.位移比"]
[]
[null,null,null,null,null,null,null,"X方向最小刚度比:","Y方向最小刚度比:",null,null,null,null,null,"X向楼层最小剪重比","Y向楼层最小剪重比"]
["说明：\n点击生成按钮，将自动更新非填充区数据，及简易图表，以便于快速查阅。切换目录仅需删除B1单元格数据，注意不要修改工作表名，保存至temp工作表，可以在dif工作表中查看变化",null,null,null,null,null,null,"1.0000(3层1塔)","1.0000(3层1塔)",null,null,null,null,null,1.6E-2,1.6E-2,"  X向最大层间位移角：  1/2164  (15层1塔)","  Y向最大层间位移角：  1/1360  (39层1塔)","  X向最大层间位移角：  1/2374  (39层1塔)","  Y向最大层间位移角：  1/751  (39层1塔)"]
[null,"层号","层高(m)","单位面积质量","g[i]","Ratx1=","Raty1=","Ratx2=","Raty2=","X向刚重比 EJd/GH**2= 7.112","Ratio_X","Ratio_Y","周期","平动系数(X+Y)","X 向剪重比","Y 向剪重比","X方向地震层间位移角","Y方向地震层间位移角","+X 方向风荷载层间位移角","+Y 方向风荷载层间位移角","X方向位移比","Y方向位移比"]
[null,39,4.3499999999999996,1305.83,0.6,1,1,1,1,"Y向刚重比 EJd/GH**2= 4.764",1,1,3.0718999999999999,"1.00(0.00+1.00)",8.4440000000000001E-2,0.13319,{"$f":"1/2666","v":3.7509377344336085E-4},{"$f":"1/1360","v":7.3529411764705881E-4},{"$f":"1/2374","v":4.2122999157540015E-4},{"$f":"1/751","v":1.3315579227696406E-3},1.18,1.03]
[null,38,3.3,2173.0300000000002,1.66,6.0307000000000004,5.2286000000000001,3.5583999999999998,3.0851000000000002,"该结构刚重比EJd/GH**2大于1.4，能够通过《高规》5.4.4条的整体稳定验算",1.75,4.8499999999999996,2.4384999999999999,"0.91(0.91+0.00)",5.9799999999999999E-2,8.2799999999999999E-2,{"$f":"1/2761","v":3.6218761318362912E-4},{"$f":"1/1396","v":7.1633237822349568E-4},{"$f":"1/3474","v":2.878526194588371E-4},{"$f":"1/803","v":1.2453300124533001E-3},1.1599999999999999,1.1100000000000001]
[null,37,3.15,1796.81,1,2.2475999999999998,2.1105,1.6687000000000001,1.5669,"该结构刚重比EJd/GH**2大于2.7，满足《高规》5.4.1，可以不考虑重力二阶效应",1.38,1.02,1.3284,"0.09(0.09+0.00)",5.296E-2,7.22E-2,{"$f":"1/2891","v":3.4590107229332413E-4},{"$f":"1/1398","v":7.1530758226037196E-4},{"$f":"1/3628","v":2.7563395810363837E-4},{"$f":"1/806","v":1.2406947890818859E-3},1.21,1.07]
[null,36,3.15,1796.15,1,1.6984999999999999,1.7342,1.321,1.3489,null,1.02,1.02,0.71,"0.88(0.88+0.00)",4.752E-2,6.3820000000000002E-2,{"$f":"1/2815","v":3.5523978685612787E-4},{"$f":"1/1392","v":7.1839080459770114E-4},{"$f":"1/3555","v":2.8129395218002813E-4},{"$f":"1/805","v":1.2422360248447205E-3}]
[null,35,3.15,1796.15,1,1.5896999999999999,1.6134999999999999,1.2363999999999999,1.2548999999999999,null,1.02,1.02,0.62729999999999997,"1.00(0.00+1.00)",4.2939999999999999E-2,5.6759999999999998E-2,{"$f":"1/2728","v":3.6656891495601173E-4},{"$f":"1/1387","v":7.2098053352559477E-4},{"$f":"1/3471","v":2.8810141169691731E-4},{"$f":"1/803","v":1.2453300124533001E-3}]
[null,34,3.15,1796.15,1,1.5223,1.5528999999999999,1.1973,1.2078,null,1.02,1.02,"X向平动振型参与质量系数总计:",0.94450000000000001,3.918E-2,5.0880000000000002E-2,{"$f":"1/2641","v":3.786444528587656E-4},{"$f":"1/1384","v":7.2254335260115603E-4},{"$f":"1/3376","v":2.9620853080568723E-4},{"$f":"1/802","v":1.2468827930174563E-3}]
[null,33,3.15,1796.15,1,1.4407000000000001,1.4609000000000001,1.179,1.1837,null,1.02,1.02,"Y向平动振型参与质量系数总计:",0.95420000000000005,3.6290000000000003E-2,4.607E-2,{"$f":"1/2560","v":3.9062500000000002E-4},{"$f":"1/1381","v":7.2411296162201298E-4},{"$f":"1/3281","v":3.0478512648582747E-4},{"$f":"1/801","v":1.2484394506866417E-3}]
[null,32,3.15,1796.15,1,1.4014,1.4091,1.1697,1.1698999999999999,null,1.02,1.02,"第1扭转周期(1.3284)/第1平动周期(3.0719)",0.43,3.4119999999999998E-2,4.2130000000000001E-2,{"$f":"1/2489","v":4.017677782241864E-4},{"$f":"1/1381","v":7.2411296162201298E-4},{"$f":"1/3189","v":3.1357792411414236E-4},{"$f":"1/800","v":1.25E-3}]
[null,31,3.15,1796.15,1.07,1.3744000000000001,1.3755999999999999,1.1587000000000001,1.1579999999999999,null,1.03,1.02,null,null,3.236E-2,3.882E-2,{"$f":"1/2411","v":4.1476565740356696E-4},{"$f":"1/1381","v":7.2411296162201298E-4},{"$f":"1/3079","v":3.2478077297823967E-4},{"$f":"1/799","v":1.2515644555694619E-3}]
[null,30,3,1681.34,0.94,1.4039999999999999,1.4135,1.1371,1.1451,null,0.94,0.97,null,null,3.0790000000000001E-2,3.5999999999999997E-2,{"$f":"1/2338","v":4.2771599657827201E-4},{"$f":"1/1380","v":7.246376811594203E-4},{"$f":"1/2970","v":3.3670033670033672E-4},{"$f":"1/798","v":1.2531328320802004E-3}]
[null,29,3.15,1796.81,1.07,1.3251999999999999,1.3157000000000001,1.1639999999999999,1.1506000000000001,null,1.0900000000000001,1.01,null,null,2.9260000000000001E-2,3.338E-2,{"$f":"1/2332","v":4.288164665523156E-4},{"$f":"1/1395","v":7.1684587813620072E-4},{"$f":"1/2951","v":3.3886818027787193E-4},{"$f":"1/804","v":1.2437810945273632E-3}]
[null,28,3.15,1796.15,1,1.3078000000000001,1.3011999999999999,1.1374,1.1377999999999999,null,1.02,1.01,null,null,2.7820000000000001E-2,3.1019999999999999E-2,{"$f":"1/2294","v":4.3591979075850045E-4},{"$f":"1/1405","v":7.1174377224199293E-4},{"$f":"1/2879","v":3.4734282737061478E-4},{"$f":"1/807","v":1.2391573729863693E-3}]
[null,27,3.15,1796.15,1,1.2959000000000001,1.2909999999999999,1.1351,1.1349,null,1.02,1.01,null,null,2.648E-2,2.8910000000000002E-2,{"$f":"1/2265","v":4.4150110375275938E-4},{"$f":"1/1418","v":7.0521861777150916E-4},{"$f":"1/2819","v":3.5473572188719402E-4},{"$f":"1/812","v":1.2315270935960591E-3}]
[null,26,3.15,1796.15,1,1.3037000000000001,1.3057000000000001,1.1337999999999999,1.1355,null,1.02,1.0900000000000001,null,null,2.5260000000000001E-2,2.707E-2,{"$f":"1/2241","v":4.4622936189201248E-4},{"$f":"1/1433","v":6.9783670621074664E-4},{"$f":"1/2764","v":3.6179450072358897E-4},{"$f":"1/817","v":1.2239902080783353E-3}]
[null,25,3.15,1796.15,1,1.3063,1.3091999999999999,1.1375999999999999,1.1391,null,1.08,1.0900000000000001,null,null,2.418E-2,2.5520000000000001E-2,{"$f":"1/2230","v":4.4843049327354261E-4},{"$f":"1/1452","v":6.8870523415977963E-4},{"$f":"1/2725","v":3.6697247706422018E-4},{"$f":"1/825","v":1.2121212121212121E-3}]
[null,24,3.15,1796.15,1,1.3036000000000001,1.3164,1.1332,1.1428,null,1.01,1.01,null,null,2.3220000000000001E-2,2.4230000000000002E-2,{"$f":"1/2213","v":4.5187528242205153E-4},{"$f":"1/1472","v":6.793478260869565E-4},{"$f":"1/2681","v":3.729951510630362E-4},{"$f":"1/833","v":1.2004801920768306E-3}]
[null,23,3.15,1796.15,1,1.3019000000000001,1.3272999999999999,1.1334,1.1486000000000001,null,1.01,0.93,null,null,2.2339999999999999E-2,2.317E-2,{"$f":"1/2199","v":4.5475216007276033E-4},{"$f":"1/1495","v":6.6889632107023408E-4},{"$f":"1/2641","v":3.786444528587656E-4},{"$f":"1/843","v":1.1862396204033216E-3}]
[null,22,3.15,1796.15,1,1.3015000000000001,1.34,1.1344000000000001,1.1546000000000001,null,1.01,1.01,null,null,2.1559999999999999E-2,2.23E-2,{"$f":"1/2189","v":4.5682960255824577E-4},{"$f":"1/1522","v":6.5703022339027597E-4},{"$f":"1/2606","v":3.8372985418265541E-4},{"$f":"1/854","v":1.17096018735363E-3}]
[null,21,3.15,1796.15,1,1.3044,1.3535999999999999,1.1362000000000001,1.1604000000000001,null,1.01,1.01,null,null,2.0889999999999999E-2,2.1600000000000001E-2,{"$f":"1/2182","v":4.5829514207149406E-4},{"$f":"1/1552","v":6.4432989690721648E-4},{"$f":"1/2578","v":3.8789759503491078E-4},{"$f":"1/868","v":1.152073732718894E-3}]
[null,20,3.15,1796.15,1,1.3108,1.3672,1.1402000000000001,1.1661999999999999,null,1.07,1.08,null,null,2.0299999999999999E-2,2.104E-2,{"$f":"1/2183","v":4.5808520384791571E-4},{"$f":"1/1587","v":6.3011972274732201E-4},{"$f":"1/2562","v":3.9032006245120999E-4},{"$f":"1/885","v":1.1299435028248588E-3}]
[null,19,3.15,1796.15,1,1.3123,1.3791,1.1383000000000001,1.1707000000000001,null,1.01,1.1000000000000001,null,null,1.9779999999999999E-2,2.061E-2,{"$f":"1/2181","v":4.5850527281063731E-4},{"$f":"1/1625","v":6.1538461538461541E-4},{"$f":"1/2544","v":3.9308176100628933E-4},{"$f":"1/903","v":1.1074197120708748E-3}]
[null,18,3.15,1796.15,1,1.3139000000000001,1.3916999999999999,1.1395999999999999,1.1766000000000001,null,1.01,1.01,null,null,1.933E-2,2.0279999999999999E-2,{"$f":"1/2180","v":4.5871559633027525E-4},{"$f":"1/1668","v":5.9952038369304552E-4},{"$f":"1/2530","v":3.9525691699604743E-4},{"$f":"1/925","v":1.0810810810810811E-3}]
[null,17,3.15,1796.15,1,1.3170999999999999,1.4048,1.1420999999999999,1.1823999999999999,null,1.02,0.92,null,null,1.8950000000000002E-2,2.0039999999999999E-2,{"$f":"1/2182","v":4.5829514207149406E-4},{"$f":"1/1716","v":5.8275058275058275E-4},{"$f":"1/2522","v":3.9651070578905631E-4},{"$f":"1/949","v":1.053740779768177E-3}]
[null,16,3.15,1796.15,1.07,1.3152999999999999,1.4157,1.1385000000000001,1.1859,null,1.01,1,null,null,1.8610000000000002E-2,1.9869999999999999E-2,{"$f":"1/2175","v":4.5977011494252872E-4},{"$f":"1/1767","v":5.6593095642331638E-4},{"$f":"1/2499","v":4.0016006402561027E-4},{"$f":"1/976","v":1.0245901639344263E-3}]
[null,15,3,1681.34,0.94,1.3754999999999999,1.4942,1.1355,1.1879,null,0.99,1.01,null,null,1.8319999999999999E-2,1.9769999999999999E-2,{"$f":"1/2164","v":4.621072088724584E-4},{"$f":"1/1823","v":5.4854635216675812E-4},{"$f":"1/2472","v":4.045307443365696E-4},{"$f":"1/1006","v":9.9403578528827028E-4}]
[null,14,3.15,1820.09,1.08,1.3328,1.4345000000000001,1.1781999999999999,1.2162999999999999,null,1.07,1.21,null,null,1.8069999999999999E-2,1.9730000000000001E-2,{"$f":"1/2234","v":4.4762757385854968E-4},{"$f":"1/1922","v":5.2029136316337154E-4},{"$f":"1/2567","v":3.8955979742890534E-4},{"$f":"1/1060","v":9.4339622641509435E-4}]
[null,13,3.15,1819.27,1,1.3402000000000001,1.4450000000000001,1.1567000000000001,1.2045999999999999,null,1.02,1,null,null,1.7860000000000001E-2,1.9730000000000001E-2,{"$f":"1/2261","v":4.4228217602830609E-4},{"$f":"1/2004","v":4.9900199600798399E-4},{"$f":"1/2597","v":3.850596842510589E-4},{"$f":"1/1106","v":9.0415913200723324E-4}]
[null,12,3.15,1819.27,1,1.3460000000000001,1.4549000000000001,1.1612,1.2101,null,1.01,1,null,null,1.7680000000000001E-2,1.975E-2,{"$f":"1/2298","v":4.351610095735422E-4},{"$f":"1/2100","v":4.7619047619047619E-4},{"$f":"1/2641","v":3.786444528587656E-4},{"$f":"1/1160","v":8.6206896551724137E-4}]
[null,11,3.15,1819.27,1,1.3667,1.4846999999999999,1.1646000000000001,1.2163999999999999,null,1.01,1,null,null,1.7510000000000001E-2,1.9769999999999999E-2,{"$f":"1/2344","v":4.2662116040955632E-4},{"$f":"1/2214","v":4.5167118337850043E-4},{"$f":"1/2697","v":3.707823507601038E-4},{"$f":"1/1225","v":8.1632653061224493E-4}]
[null,10,3.15,1819.27,1,1.3803000000000001,1.4999,1.1725000000000001,1.2231000000000001,null,1.05,0.97,null,null,1.738E-2,1.9800000000000002E-2,{"$f":"1/2410","v":4.1493775933609957E-4},{"$f":"1/2350","v":4.2553191489361702E-4},{"$f":"1/2778","v":3.5997120230381568E-4},{"$f":"1/1304","v":7.668711656441718E-4}]
[null,9,3.15,1819.27,1,1.3889,1.5141,1.1736,1.2284999999999999,null,1.01,1,null,null,1.7270000000000001E-2,1.9810000000000001E-2,{"$f":"1/2483","v":4.0273862263391061E-4},{"$f":"1/2509","v":3.9856516540454366E-4},{"$f":"1/2868","v":3.4867503486750347E-4},{"$f":"1/1397","v":7.158196134574087E-4}]
[null,8,3.15,1819.27,1,1.4016,1.5331999999999999,1.1811,1.2384999999999999,null,1.01,1,null,null,1.7160000000000002E-2,1.9810000000000001E-2,{"$f":"1/2578","v":3.8789759503491078E-4},{"$f":"1/2707","v":3.6941263391207979E-4},{"$f":"1/2985","v":3.3500837520938025E-4},{"$f":"1/1514","v":6.6050198150594452E-4}]
[null,7,3.15,1819.27,1,1.421,1.5606,1.1920999999999999,1.2524999999999999,null,1,1,null,null,1.703E-2,1.9789999999999999E-2,{"$f":"1/2708","v":3.6927621861152144E-4},{"$f":"1/2960","v":3.3783783783783786E-4},{"$f":"1/3142","v":3.1826861871419476E-4},{"$f":"1/1664","v":6.0096153846153849E-4}]
[null,6,3.15,1819.27,1,1.4533,1.6012,1.2095,1.2729999999999999,null,1.01,1,null,null,1.6910000000000001E-2,1.9730000000000001E-2,{"$f":"1/2893","v":3.4566194262011752E-4},{"$f":"1/3297","v":3.0330603579011223E-4},{"$f":"1/3362","v":2.9744199881023202E-4},{"$f":"1/1864","v":5.3648068669527897E-4}]
[null,5,3.15,1819.27,1,1.5055000000000001,1.6645000000000001,1.2378,1.3056000000000001,null,1.04,1.1000000000000001,null,null,1.6750000000000001E-2,1.9630000000000002E-2,{"$f":"1/3170","v":3.1545741324921138E-4},{"$f":"1/3776","v":2.6483050847457627E-4},{"$f":"1/3690","v":2.7100271002710027E-4},{"$f":"1/2094","v":4.7755491881566379E-4}]
[null,4,3.15,1819.27,1,1.6471,1.7732000000000001,1.3285,1.3792,null,1.1100000000000001,0.89,null,null,1.6559999999999998E-2,1.9480000000000001E-2,{"$f":"1/3713","v":2.6932399676811203E-4},{"$f":"1/4579","v":2.1838829438742082E-4},{"$f":"1/4335","v":2.306805074971165E-4},{"$f":"1/2494","v":4.0096230954290296E-4}]
[null,3,6.45,3090.35,1.7,1.0454000000000001,1.0835999999999999,1.665,1.7257,null,1.1000000000000001,1.2,null,null,1.6230000000000001E-2,1.9230000000000001E-2,{"$f":"1/5242","v":1.9076688286913393E-4},{"$f":"1/6872","v":1.4551804423748544E-4},{"$f":"1/6107","v":1.637465203864418E-4},{"$f":"1/3887","v":2.5726781579624391E-4}]
[null,2,4.5999999999999996,2798.82,1.8,6.7588999999999997,3.6255999999999999,5.0122,2.5899000000000001,null,2.2000000000000002,1.22,null,null,1.5299999999999999E-2,1.839E-2,{"$f":"1/9999","v":1.0001000100010001E-4},{"$f":"1/9999","v":1.0001000100010001E-4},{"$f":"1/9999","v":1.0001000100010001E-4},{"$f":"1/7671","v":1.3036110024768608E-4}]
[null,1,3.7,1550.94,0.55000000000000004,3.9687000000000001,4.9446000000000003,1.4897,1.8560000000000001,null,1.1499999999999999,1.1200000000000001,null,null,1.451E-2,1.745E-2,{"$f":"1/9999","v":1.0001000100010001E-4},{"$f":"1/9999","v":1.0001000100010001E-4},{"$f":"1/9999","v":1.0001000100010001E-4},{"$f":"1/9999","v":1.0001000100010001E-4}]
[null,null,{"$f":" SUM($C$7:$C$45)","v":129.20000000000005},1305.83,null,1,1,1,1,null,0.94,0.89,null,null,1.451E-2,1.745E-2,1.0001000100010001E-4,1.0001000100010001E-4,1.0001000100010001E-4,1.0001000100010001E-4]
[null,null,null,3090.35,null,6.7588999999999997,5.2286000000000001,5.0122,3.0851000000000002,null,2.2000000000000002,4.8499999999999996,null,null,8.4440000000000001E-2,0.13319,4.621072088724584E-4,7.3529411764705881E-4,4.2122999157540015E-4,1.3315579227696406E-3]

{"sheet":"dif","index":3,"n_rows":53,"n_cols":23,"rows_kept":53,"cut":false,"hidden":false,"merged":[[0,4,0,22],[1,5,1,8],[1,10,1,11],[1,12,1,13],[1,14,1,15],[1,16,1,19],[1,20,1,21]]}
[null,null,null,null,"YJK结构整体参数速校表 — design by 林霄云 2018.3.31"]
[null,"wmass.out",null,null,"9.质量比","3.刚度比",null,null,null,"6.刚重比","4.受剪承载力比",null,"2.周期比",null,"7.剪重比",null,"5.位移角",null,null,null,"1.位移比",null,"8.轴压比"]
[null,null,null,null,null,null,null,null,null,null,null,null,null,null,null,null,"注：位移角差值为分母的变化值"]
[]
[]
[null,"层号","层高(m)","单位面积质量","g[i]","Ratx1=","Raty1=","Ratx2=","Raty2=","X向刚重比 EJd/GH**2= 3.269","Ratio_X","Ratio_Y","周期","平动系数(X+Y)","X 向剪重比","Y 向剪重比","X方向地震层间位移角","Y方向地震层间位移角","+X 方向风荷载层间位移角","+Y 方向风荷载层间位移角","X方向位移比","Y方向位移比"]
[null,{"$f":"IF(Sheet1!B7=temp!B7,\"\",Sheet1!B7-temp!B7)","v":""},{"$f":"IF(Sheet1!C7=temp!C7,\"\",Sheet1!C7-temp!C7)","v":""},{"$f":"IF(Sheet1!D7=temp!D7,\"\",Sheet1!D7-temp!D7)","v":""},{"$f":"IF(Sheet1!E7=temp!E7,\"\",Sheet1!E7-temp!E7)","v":""},{"$f":"IF(Sheet1!F7=temp!F7,\"\",Sheet1!F7-temp!F7)","v":""},{"$f":"IF(Sheet1!G7=temp!G7,\"\",Sheet1!G7-temp!G7)","v":""},{"$f":"IF(Sheet1!H7=temp!H7,\"\",Sheet1!H7-temp!H7)","v":""},{"$f":"IF(Sheet1!I7=temp!I7,\"\",Sheet1!I7-temp!I7)","v":""},{"$f":"IF(Sheet1!J7=temp!J7,\"\",Sheet1!J7-temp!J7)","v":{"$error":"#VALUE!"}},{"$f":"IF(Sheet1!K7=temp!K7,\"\",Sheet1!K7-temp!K7)","v":""},{"$f":"IF(Sheet1!L7=temp!L7,\"\",Sheet1!L7-temp!L7)","v":""},{"$f":"IF(Sheet1!M7=temp!M7,\"\",Sheet1!M7-temp!M7)","v":-1.1499999999999844E-2},{"$f":"IF(Sheet1!N7=temp!N7,\"\",Sheet1!N7-temp!N7)","v":""},{"$f":"IF(Sheet1!O7=temp!O7,\"\",Sheet1!O7-temp!O7)","v":-3.999999999999837E-5},{"$f":"IF(Sheet1!P7=temp!P7,\"\",Sheet1!P7-temp!P7)","v":-1.8999999999999573E-4},{"$f":"IF(Sheet1!Q7=temp!Q7,\"\",1/Sheet1!Q7-1/temp!Q7)","v":-2},{"$f":"IF(Sheet1!R7=temp!R7,\"\",1/Sheet1!R7-1/temp!R7)","v":13},{"$f":"IF(Sheet1!S7=temp!S7,\"\",1/Sheet1!S7-1/temp!S7)","v":""},{"$f":"IF(Sheet1!T7=temp!T7,\"\",1/Sheet1!T7-1/temp!T7)","v":9},{"$f":"IF(Sheet1!U7=temp!U7,\"\",Sheet1!U7-temp!U7)","v":1.0000000000000009E-2},{"$f":"IF(Sheet1!V7=temp!V7,\"\",Sheet1!V7-temp!V7)","v":""}]
[null,{"$f":"IF(Sheet1!B8=temp!B8,\"\",Sheet1!B8-temp!B8)","v":""},{"$f":"IF(Sheet1!C8=temp!C8,\"\",Sheet1!C8-temp!C8)","v":""},{"$f":"IF(Sheet1!D8=temp!D8,\"\",Sheet1!D8-temp!D8)","v":""},{"$f":"IF(Sheet1!E8=temp!E8,\"\",Sheet1!E8-temp!E8)","v":""},{"$f":"IF(Sheet1!F8=temp!F8,\"\",Sheet1!F8-temp!F8)","v":-4.8700000000000188E-2},{"$f":"IF(Sheet1!G8=temp!G8,\"\",Sheet1!G8-temp!G8)","v":9.2999999999996419E-3},{"$f":"IF(Sheet1!H8=temp!H8,\"\",Sheet1!H8-temp!H8)","v":-2.8799999999999937E-2},{"$f":"IF(Sheet1!I8=temp!I8,\"\",Sheet1!I8-temp!I8)","v":5.4999999999996163E-3},{"$f":"IF(Sheet1!J8=temp!J8,\"\",Sheet1!J8-temp!J8)","v":""},{"$f":"IF(Sheet1!K8=temp!K8,\"\",Sheet1!K8-temp!K8)","v":""},{"$f":"IF(Sheet1!L8=temp!L8,\"\",Sheet1!L8-temp!L8)","v":""},{"$f":"IF(Sheet1!M8=temp!M8,\"\",Sheet1!M8-temp!M8)","v":7.0000000000014495E-4},{"$f":"IF(Sheet1!N8=temp!N8,\"\",Sheet1!N8-temp!N8)","v":""},{"$f":"IF(Sheet1!O8=temp!O8,\"\",Sheet1!O8-temp!O8)","v":""},{"$f":"IF(Sheet1!P8=temp!P8,\"\",Sheet1!P8-temp!P8)","v":3.999999999999837E-5},{"$f":"IF(Sheet1!Q8=temp!Q8,\"\",1/Sheet1!Q8-1/temp!Q8)","v":-2},{"$f":"IF(Sheet1!R8=temp!R8,\"\",1/Sheet1!R8-1/temp!R8)","v":13},{"$f":"IF(Sheet1!S8=temp!S8,\"\",1/Sheet1!S8-1/temp!S8)","v":-3.9999999999995453},{"$f":"IF(Sheet1!T8=temp!T8,\"\",1/Sheet1!T8-1/temp!T8)","v":10},{"$f":"IF(Sheet1!U8=temp!U8,\"\",Sheet1!U8-temp!U8)","v":""},{"$f":"IF(Sheet1!V8=temp!V8,\"\",Sheet1!V8-temp!V8)","v":-1.0000000000000009E-2}]
[null,{"$f":"IF(Sheet1!B9=temp!B9,\"\",Sheet1!B9-temp!B9)","v":""},{"$f":"IF(Sheet1!C9=temp!C9,\"\",Sheet1!C9-temp!C9)","v":""},{"$f":"IF(Sheet1!D9=temp!D9,\"\",Sheet1!D9-temp!D9)","v":3.9400000000000546},{"$f":"IF(Sheet1!E9=temp!E9,\"\",Sheet1!E9-temp!E9)","v":""},{"$f":"IF(Sheet1!F9=temp!F9,\"\",Sheet1!F9-temp!F9)","v":-1.3900000000000023E-2},{"$f":"IF(Sheet1!G9=temp!G9,\"\",Sheet1!G9-temp!G9)","v":1.5999999999998238E-3},{"$f":"IF(Sheet1!H9=temp!H9,\"\",Sheet1!H9-temp!H9)","v":-1.0399999999999965E-2},{"$f":"IF(Sheet1!I9=temp!I9,\"\",Sheet1!I9-temp!I9)","v":1.2000000000000899E-3},{"$f":"IF(Sheet1!J9=temp!J9,\"\",Sheet1!J9-temp!J9)","v":""},{"$f":"IF(Sheet1!K9=temp!K9,\"\",Sheet1!K9-temp!K9)","v":3.0000000000000027E-2},{"$f":"IF(Sheet1!L9=temp!L9,\"\",Sheet1!L9-temp!L9)","v":""},{"$f":"IF(Sheet1!M9=temp!M9,\"\",Sheet1!M9-temp!M9)","v":-1.5300000000000091E-2},{"$f":"IF(Sheet1!N9=temp!N9,\"\",Sheet1!N9-temp!N9)","v":""},{"$f":"IF(Sheet1!O9=temp!O9,\"\",Sheet1!O9-temp!O9)","v":-1.2000000000000205E-4},{"$f":"IF(Sheet1!P9=temp!P9,\"\",Sheet1!P9-temp!P9)","v":3.0000000000002247E-5},{"$f":"IF(Sheet1!Q9=temp!Q9,\"\",1/Sheet1!Q9-1/temp!Q9)","v":-11},{"$f":"IF(Sheet1!R9=temp!R9,\"\",1/Sheet1!R9-1/temp!R9)","v":13},{"$f":"IF(Sheet1!S9=temp!S9,\"\",1/Sheet1!S9-1/temp!S9)","v":-10},{"$f":"IF(Sheet1!T9=temp!T9,\"\",1/Sheet1!T9-1/temp!T9)","v":10},{"$f":"IF(Sheet1!U9=temp!U9,\"\",Sheet1!U9-temp!U9)","v":""},{"$f":"IF(Sheet1!V9=temp!V9,\"\",Sheet1!V9-temp!V9)","v":""}]
[null,{"$f":"IF(Sheet1!B10=temp!B10,\"\",Sheet1!B10-temp!B10)","v":""},{"$f":"IF(Sheet1!C10=temp!C10,\"\",Sheet1!C10-temp!C10)","v":""},{"$f":"IF(Sheet1!D10=temp!D10,\"\",Sheet1!D10-temp!D10)","v":3.9499999999998181},{"$f":"IF(Sheet1!E10=temp!E10,\"\",Sheet1!E10-temp!E10)","v":""},{"$f":"IF(Sheet1!F10=temp!F10,\"\",Sheet1!F10-temp!F10)","v":-2.0000000000000018E-3},{"$f":"IF(Sheet1!G10=temp!G10,\"\",Sheet1!G10-temp!G10)","v":9.0000000000012292E-4},{"$f":"IF(Sheet1!H10=temp!H10,\"\",Sheet1!H10-temp!H10)","v":-1.5000000000000568E-3},{"$f":"IF(Sheet1!I10=temp!I10,\"\",Sheet1!I10-temp!I10)","v":5.9999999999993392E-4},{"$f":"IF(Sheet1!J10=temp!J10,\"\",Sheet1!J10-temp!J10)","v":""},{"$f":"IF(Sheet1!K10=temp!K10,\"\",Sheet1!K10-temp!K10)","v":""},{"$f":"IF(Sheet1!L10=temp!L10,\"\",Sheet1!L10-temp!L10)","v":""},{"$f":"IF(Sheet1!M10=temp!M10,\"\",Sheet1!M10-temp!M10)","v":-1.1999999999999789E-3},{"$f":"IF(Sheet1!N10=temp!N10,\"\",Sheet1!N10-temp!N10)","v":""},{"$f":"IF(Sheet1!O10=temp!O10,\"\",Sheet1!O10-temp!O10)","v":-1.6000000000000042E-4},{"$f":"IF(Sheet1!P10=temp!P10,\"\",Sheet1!P10-temp!P10)","v":3.999999999999837E-5},{"$f":"IF(Sheet1!Q10=temp!Q10,\"\",1/Sheet1!Q10-1/temp!Q10)","v":-10},{"$f":"IF(Sheet1!R10=temp!R10,\"\",1/Sheet1!R10-1/temp!R10)","v":13},{"$f":"IF(Sheet1!S10=temp!S10,\"\",1/Sheet1!S10-1/temp!S10)","v":-10},{"$f":"IF(Sheet1!T10=temp!T10,\"\",1/Sheet1!T10-1/temp!T10)","v":10},{"$f":"IF(Sheet1!U10=temp!U10,\"\",Sheet1!U10-temp!U10)","v":""},{"$f":"IF(Sheet1!V10=temp!V10,\"\",Sheet1!V10-temp!V10)","v":""}]
[null,{"$f":"IF(Sheet1!B11=temp!B11,\"\",Sheet1!B11-temp!B11)","v":""},{"$f":"IF(Sheet1!C11=temp!C11,\"\",Sheet1!C11-temp!C11)","v":""},{"$f":"IF(Sheet1!D11=temp!D11,\"\",Sheet1!D11-temp!D11)","v":3.9499999999998181},{"$f":"IF(Sheet1!E11=temp!E11,\"\",Sheet1!E11-temp!E11)","v":""},{"$f":"IF(Sheet1!F11=temp!F11,\"\",Sheet1!F11-temp!F11)","v":8.0000000000013394E-4},{"$f":"IF(Sheet1!G11=temp!G11,\"\",Sheet1!G11-temp!G11)","v":6.0000000000015596E-4},{"$f":"IF(Sheet1!H11=temp!H11,\"\",Sheet1!H11-temp!H11)","v":7.0000000000014495E-4},{"$f":"IF(Sheet1!I11=temp!I11,\"\",Sheet1!I11-temp!I11)","v":5.0000000000016698E-4},{"$f":"IF(Sheet1!J11=temp!J11,\"\",Sheet1!J11-temp!J11)","v":""},{"$f":"IF(Sheet1!K11=temp!K11,\"\",Sheet1!K11-temp!K11)","v":""},{"$f":"IF(Sheet1!L11=temp!L11,\"\",Sheet1!L11-temp!L11)","v":""},{"$f":"IF(Sheet1!M11=temp!M11,\"\",Sheet1!M11-temp!M11)","v":-1.6999999999999238E-3},{"$f":"IF(Sheet1!N11=temp!N11,\"\",Sheet1!N11-temp!N11)","v":""},{"$f":"IF(Sheet1!O11=temp!O11,\"\",Sheet1!O11-temp!O11)","v":-1.6000000000000042E-4},{"$f":"IF(Sheet1!P11=temp!P11,\"\",Sheet1!P11-temp!P11)","v":5.0000000000001432E-5},{"$f":"IF(Sheet1!Q11=temp!Q11,\"\",1/Sheet1!Q11-1/temp!Q11)","v":-9},{"$f":"IF(Sheet1!R11=temp!R11,\"\",1/Sheet1!R11-1/temp!R11)","v":13},{"$f":"IF(Sheet1!S11=temp!S11,\"\",1/Sheet1!S11-1/temp!S11)","v":-9},{"$f":"IF(Sheet1!T11=temp!T11,\"\",1/Sheet1!T11-1/temp!T11)","v":10},{"$f":"IF(Sheet1!U11=temp!U11,\"\",Sheet1!U11-temp!U11)","v":""},{"$f":"IF(Sheet1!V11=temp!V11,\"\",Sheet1!V11-temp!V11)","v":""}]
[null,{"$f":"IF(Sheet1!B12=temp!B12,\"\",Sheet1!B12-temp!B12)","v":""},{"$f":"IF(Sheet1!C12=temp!C12,\"\",Sheet1!C12-temp!C12)","v":""},{"$f":"IF(Sheet1!D12=temp!D12,\"\",Sheet1!D12-temp!D12)","v":3.9499999999998181},{"$f":"IF(Sheet1!E12=temp!E12,\"\",Sheet1!E12-temp!E12)","v":""},{"$f":"IF(Sheet1!F12=temp!F12,\"\",Sheet1!F12-temp!F12)","v":1.6000000000000458E-3},{"$f":"IF(Sheet1!G12=temp!G12,\"\",Sheet1!G12-temp!G12)","v":6.0000000000015596E-4},{"$f":"IF(Sheet1!H12=temp!H12,\"\",Sheet1!H12-temp!H12)","v":1.3000000000000789E-3},{"$f":"IF(Sheet1!I12=temp!I12,\"\",Sheet1!I12-temp!I12)","v":3.9999999999995595E-4},{"$f":"IF(Sheet1!J12=temp!J12,\"\",Sheet1!J12-temp!J12)","v":""},{"$f":"IF(Sheet1!K12=temp!K12,\"\",Sheet1!K12-temp!K12)","v":""},{"$f":"IF(Sheet1!L12=temp!L12,\"\",Sheet1!L12-temp!L12)","v":""},{"$f":"IF(Sheet1!M12=temp!M12,\"\",Sheet1!M12-temp!M12)","v":""},{"$f":"IF(Sheet1!N12=temp!N12,\"\",Sheet1!N12-temp!N12)","v":3.1999999999999806E-3},{"$f":"IF(Sheet1!O12=temp!O12,\"\",Sheet1!O12-temp!O12)","v":-1.4000000000000123E-4},{"$f":"IF(Sheet1!P12=temp!P12,\"\",Sheet1!P12-temp!P12)","v":5.9999999999997555E-5},{"$f":"IF(Sheet1!Q12=temp!Q12,\"\",1/Sheet1!Q12-1/temp!Q12)","v":-8},{"$f":"IF(Sheet1!R12=temp!R12,\"\",1/Sheet1!R12-1/temp!R12)","v":12},{"$f":"IF(Sheet1!S12=temp!S12,\"\",1/Sheet1!S12-1/temp!S12)","v":-6.9999999999995453},{"$f":"IF(Sheet1!T12=temp!T12,\"\",1/Sheet1!T12-1/temp!T12)","v":10},{"$f":"IF(Sheet1!U12=temp!U12,\"\",Sheet1!U12-temp!U12)","v":""},{"$f":"IF(Sheet1!V12=temp!V12,\"\",Sheet1!V12-temp!V12)","v":""}]
[null,{"$f":"IF(Sheet1!B13=temp!B13,\"\",Sheet1!B13-temp!B13)","v":""},{"$f":"IF(Sheet1!C13=temp!C13,\"\",Sheet1!C13-temp!C13)","v":""},{"$f":"IF(Sheet1!D13=temp!D13,\"\",Sheet1!D13-temp!D13)","v":3.9499999999998181},{"$f":"IF(Sheet1!E13=temp!E13,\"\",Sheet1!E13-temp!E13)","v":""},{"$f":"IF(Sheet1!F13=temp!F13,\"\",Sheet1!F13-temp!F13)","v":2.6999999999999247E-3},{"$f":"IF(Sheet1!G13=temp!G13,\"\",Sheet1!G13-temp!G13)","v":8.9999999999990088E-4},{"$f":"IF(Sheet1!H13=temp!H13,\"\",Sheet1!H13-temp!H13)","v":1.1999999999998678E-3},{"$f":"IF(Sheet1!I13=temp!I13,\"\",Sheet1!I13-temp!I13)","v":2.9999999999996696E-4},{"$f":"IF(Sheet1!J13=temp!J13,\"\",Sheet1!J13-temp!J13)","v":""},{"$f":"IF(Sheet1!K13=temp!K13,\"\",Sheet1!K13-temp!K13)","v":""},{"$f":"IF(Sheet1!L13=temp!L13,\"\",Sheet1!L13-temp!L13)","v":""},{"$f":"IF(Sheet1!M13=temp!M13,\"\",Sheet1!M13-temp!M13)","v":""},{"$f":"IF(Sheet1!N13=temp!N13,\"\",Sheet1!N13-temp!N13)","v":9.9999999999988987E-5},{"$f":"IF(Sheet1!O13=temp!O13,\"\",Sheet1!O13-temp!O13)","v":-1.4000000000000123E-4},{"$f":"IF(Sheet1!P13=temp!P13,\"\",Sheet1!P13-temp!P13)","v":7.0000000000000617E-5},{"$f":"IF(Sheet1!Q13=temp!Q13,\"\",1/Sheet1!Q13-1/temp!Q13)","v":-6},{"$f":"IF(Sheet1!R13=temp!R13,\"\",1/Sheet1!R13-1/temp!R13)","v":13},{"$f":"IF(Sheet1!S13=temp!S13,\"\",1/Sheet1!S13-1/temp!S13)","v":-6},{"$f":"IF(Sheet1!T13=temp!T13,\"\",1/Sheet1!T13-1/temp!T13)","v":10},{"$f":"IF(Sheet1!U13=temp!U13,\"\",Sheet1!U13-temp!U13)","v":""},{"$f":"IF(Sheet1!V13=temp!V13,\"\",Sheet1!V13-temp!V13)","v":""}]
[null,{"$f":"IF(Sheet1!B14=temp!B14,\"\",Sheet1!B14-temp!B14)","v":""},{"$f":"IF(Sheet1!C14=temp!C14,\"\",Sheet1!C14-temp!C14)","v":""},{"$f":"IF(Sheet1!D14=temp!D14,\"\",Sheet1!D14-temp!D14)","v":3.9499999999998181},{"$f":"IF(Sheet1!E14=temp!E14,\"\",Sheet1!E14-temp!E14)","v":""},{"$f":"IF(Sheet1!F14=temp!F14,\"\",Sheet1!F14-temp!F14)","v":2.5999999999999357E-3},{"$f":"IF(Sheet1!G14=temp!G14,\"\",Sheet1!G14-temp!G14)","v":4.9999999999994493E-4},{"$f":"IF(Sheet1!H14=temp!H14,\"\",Sheet1!H14-temp!H14)","v":1.1000000000001009E-3},{"$f":"IF(Sheet1!I14=temp!I14,\"\",Sheet1!I14-temp!I14)","v":1.9999999999997797E-4},{"$f":"IF(Sheet1!J14=temp!J14,\"\",Sheet1!J14-temp!J14)","v":""},{"$f":"IF(Sheet1!K14=temp!K14,\"\",Sheet1!K14-temp!K14)","v":""},{"$f":"IF(Sheet1!L14=temp!L14,\"\",Sheet1!L14-temp!L14)","v":""},{"$f":"IF(Sheet1!M14=temp!M14,\"\",Sheet1!M14-temp!M14)","v":{"$error":"#VALUE!"}},{"$f":"IF(Sheet1!N14=temp!N14,\"\",Sheet1!N14-temp!N14)","v":""},{"$f":"IF(Sheet1!O14=temp!O14,\"\",Sheet1!O14-temp!O14)","v":-1.2999999999999817E-4},{"$f":"IF(Sheet1!P14=temp!P14,\"\",Sheet1!P14-temp!P14)","v":7.0000000000000617E-5},{"$f":"IF(Sheet1!Q14=temp!Q14,\"\",1/Sheet1!Q14-1/temp!Q14)","v":-5},{"$f":"IF(Sheet1!R14=temp!R14,\"\",1/Sheet1!R14-1/temp!R14)","v":12},{"$f":"IF(Sheet1!S14=temp!S14,\"\",1/Sheet1!S14-1/temp!S14)","v":-5},{"$f":"IF(Sheet1!T14=temp!T14,\"\",1/Sheet1!T14-1/temp!T14)","v":10},{"$f":"IF(Sheet1!U14=temp!U14,\"\",Sheet1!U14-temp!U14)","v":""},{"$f":"IF(Sheet1!V14=temp!V14,\"\",Sheet1!V14-temp!V14)","v":""}]
[null,{"$f":"IF(Sheet1!B15=temp!B15,\"\",Sheet1!B15-temp!B15)","v":""},{"$f":"IF(Sheet1!C15=temp!C15,\"\",Sheet1!C15-temp!C15)","v":""},{"$f":"IF(Sheet1!D15=temp!D15,\"\",Sheet1!D15-temp!D15)","v":3.9499999999998181},{"$f":"IF(Sheet1!E15=temp!E15,\"\",Sheet1!E15-temp!E15)","v":""},{"$f":"IF(Sheet1!F15=temp!F15,\"\",Sheet1!F15-temp!F15)","v":2.8999999999999027E-3},{"$f":"IF(Sheet1!G15=temp!G15,\"\",Sheet1!G15-temp!G15)","v":1.9999999999997797E-4},{"$f":"IF(Sheet1!H15=temp!H15,\"\",Sheet1!H15-temp!H15)","v":1.2999999999998568E-3},{"$f":"IF(Sheet1!I15=temp!I15,\"\",Sheet1!I15-temp!I15)","v":""},{"$f":"IF(Sheet1!J15=temp!J15,\"\",Sheet1!J15-temp!J15)","v":""},{"$f":"IF(Sheet1!K15=temp!K15,\"\",Sheet1!K15-temp!K15)","v":-1.0000000000000009E-2},{"$f":"IF(Sheet1!L15=temp!L15,\"\",Sheet1!L15-temp!L15)","v":""},{"$f":"IF(Sheet1!M15=temp!M15,\"\",Sheet1!M15-temp!M15)","v":""},{"$f":"IF(Sheet1!N15=temp!N15,\"\",Sheet1!N15-temp!N15)","v":""},{"$f":"IF(Sheet1!O15=temp!O15,\"\",Sheet1!O15-temp!O15)","v":-1.0999999999999899E-4},{"$f":"IF(Sheet1!P15=temp!P15,\"\",Sheet1!P15-temp!P15)","v":7.0000000000000617E-5},{"$f":"IF(Sheet1!Q15=temp!Q15,\"\",1/Sheet1!Q15-1/temp!Q15)","v":-4},{"$f":"IF(Sheet1!R15=temp!R15,\"\",1/Sheet1!R15-1/temp!R15)","v":11},{"$f":"IF(Sheet1!S15=temp!S15,\"\",1/Sheet1!S15-1/temp!S15)","v":-4},{"$f":"IF(Sheet1!T15=temp!T15,\"\",1/Sheet1!T15-1/temp!T15)","v":10.000000000000114},{"$f":"IF(Sheet1!U15=temp!U15,\"\",Sheet1!U15-temp!U15)","v":""},{"$f":"IF(Sheet1!V15=temp!V15,\"\",Sheet1!V15-temp!V15)","v":""}]
[null,{"$f":"IF(Sheet1!B16=temp!B16,\"\",Sheet1!B16-temp!B16)","v":""},{"$f":"IF(Sheet1!C16=temp!C16,\"\",Sheet1!C16-temp!C16)","v":""},{"$f":"IF(Sheet1!D16=temp!D16,\"\",Sheet1!D16-temp!D16)","v":1.8400000000001455},{"$f":"IF(Sheet1!E16=temp!E16,\"\",Sheet1!E16-temp!E16)","v":""},{"$f":"IF(Sheet1!F16=temp!F16,\"\",Sheet1!F16-temp!F16)","v":2.6000000000001577E-3},{"$f":"IF(Sheet1!G16=temp!G16,\"\",Sheet1!G16-temp!G16)","v":9.9999999999988987E-5},{"$f":"IF(Sheet1!H16=temp!H16,\"\",Sheet1!H16-temp!H16)","v":7.9999999999991189E-4},{"$f":"IF(Sheet1!I16=temp!I16,\"\",Sheet1!I16-temp!I16)","v":""},{"$f":"IF(Sheet1!J16=temp!J16,\"\",Sheet1!J16-temp!J16)","v":""},{"$f":"IF(Sheet1!K16=temp!K16,\"\",Sheet1!K16-temp!K16)","v":1.0000000000000009E-2},{"$f":"IF(Sheet1!L16=temp!L16,\"\",Sheet1!L16-temp!L16)","v":-1.0000000000000009E-2},{"$f":"IF(Sheet1!M16=temp!M16,\"\",Sheet1!M16-temp!M16)","v":""},{"$f":"IF(Sheet1!N16=temp!N16,\"\",Sheet1!N16-temp!N16)","v":""},{"$f":"IF(Sheet1!O16=temp!O16,\"\",Sheet1!O16-temp!O16)","v":-8.000000000000021E-5},{"$f":"IF(Sheet1!P16=temp!P16,\"\",Sheet1!P16-temp!P16)","v":7.0000000000000617E-5},{"$f":"IF(Sheet1!Q16=temp!Q16,\"\",1/Sheet1!Q16-1/temp!Q16)","v":-3},{"$f":"IF(Sheet1!R16=temp!R16,\"\",1/Sheet1!R16-1/temp!R16)","v":11},{"$f":"IF(Sheet1!S16=temp!S16,\"\",1/Sheet1!S16-1/temp!S16)","v":-3},{"$f":"IF(Sheet1!T16=temp!T16,\"\",1/Sheet1!T16-1/temp!T16)","v":9},{"$f":"IF(Sheet1!U16=temp!U16,\"\",Sheet1!U16-temp!U16)","v":""},{"$f":"IF(Sheet1!V16=temp!V16,\"\",Sheet1!V16-temp!V16)","v":""}]
[null,{"$f":"IF(Sheet1!B17=temp!B17,\"\",Sheet1!B17-temp!B17)","v":""},{"$f":"IF(Sheet1!C17=temp!C17,\"\",Sheet1!C17-temp!C17)","v":""},{"$f":"IF(Sheet1!D17=temp!D17,\"\",Sheet1!D17-temp!D17)","v":3.9400000000000546},{"$f":"IF(Sheet1!E17=temp!E17,\"\",Sheet1!E17-temp!E17)","v":""},{"$f":"IF(Sheet1!F17=temp!F17,\"\",Sheet1!F17-temp!F17)","v":1.8000000000000238E-3},{"$f":"IF(Sheet1!G17=temp!G17,\"\",Sheet1!G17-temp!G17)","v":2.9999999999996696E-4},{"$f":"IF(Sheet1!H17=temp!H17,\"\",Sheet1!H17-temp!H17)","v":5.0000000000016698E-4},{"$f":"IF(Sheet1!I17=temp!I17,\"\",Sheet1!I17-temp!I17)","v":1.9999999999997797E-4},{"$f":"IF(Sheet1!J17=temp!J17,\"\",Sheet1!J17-temp!J17)","v":""},{"$f":"IF(Sheet1!K17=temp!K17,\"\",Sheet1!K17-temp!K17)","v":""},{"$f":"IF(Sheet1!L17=temp!L17,\"\",Sheet1!L17-temp!L17)","v":""},{"$f":"IF(Sheet1!M17=temp!M17,\"\",Sheet1!M17-temp!M17)","v":""},{"$f":"IF(Sheet1!N17=temp!N17,\"\",Sheet1!N17-temp!N17)","v":""},{"$f":"IF(Sheet1!O17=temp!O17,\"\",Sheet1!O17-temp!O17)","v":-6.0000000000001025E-5},{"$f":"IF(Sheet1!P17=temp!P17,\"\",Sheet1!P17-temp!P17)","v":7.0000000000000617E-5},{"$f":"IF(Sheet1!Q17=temp!Q17,\"\",1/Sheet1!Q17-1/temp!Q17)","v":-3},{"$f":"IF(Sheet1!R17=temp!R17,\"\",1/Sheet1!R17-1/temp!R17)","v":12},{"$f":"IF(Sheet1!S17=temp!S17,\"\",1/Sheet1!S17-1/temp!S17)","v":-4},{"$f":"IF(Sheet1!T17=temp!T17,\"\",1/Sheet1!T17-1/temp!T17)","v":10},{"$f":"IF(Sheet1!U17=temp!U17,\"\",Sheet1!U17-temp!U17)","v":""},{"$f":"IF(Sheet1!V17=temp!V17,\"\",Sheet1!V17-temp!V17)","v":""}]
[null,{"$f":"IF(Sheet1!B18=temp!B18,\"\",Sheet1!B18-temp!B18)","v":""},{"$f":"IF(Sheet1!C18=temp!C18,\"\",Sheet1!C18-temp!C18)","v":""},{"$f":"IF(Sheet1!D18=temp!D18,\"\",Sheet1!D18-temp!D18)","v":3.9499999999998181},{"$f":"IF(Sheet1!E18=temp!E18,\"\",Sheet1!E18-temp!E18)","v":""},{"$f":"IF(Sheet1!F18=temp!F18,\"\",Sheet1!F18-temp!F18)","v":1.3999999999998458E-3},{"$f":"IF(Sheet1!G18=temp!G18,\"\",Sheet1!G18-temp!G18)","v":""},{"$f":"IF(Sheet1!H18=temp!H18,\"\",Sheet1!H18-temp!H18)","v":4.9999999999994493E-4},{"$f":"IF(Sheet1!I18=temp!I18,\"\",Sheet1!I18-temp!I18)","v":-1.9999999999997797E-4},{"$f":"IF(Sheet1!J18=temp!J18,\"\",Sheet1!J18-temp!J18)","v":""},{"$f":"IF(Sheet1!K18=temp!K18,\"\",Sheet1!K18-temp!K18)","v":""},{"$f":"IF(Sheet1!L18=temp!L18,\"\",Sheet1!L18-temp!L18)","v":-1.0000000000000009E-2},{"$f":"IF(Sheet1!M18=temp!M18,\"\",Sheet1!M18-temp!M18)","v":""},{"$f":"IF(Sheet1!N18=temp!N18,\"\",Sheet1!N18-temp!N18)","v":""},{"$f":"IF(Sheet1!O18=temp!O18,\"\",Sheet1!O18-temp!O18)","v":-5.0000000000001432E-5},{"$f":"IF(Sheet1!P18=temp!P18,\"\",Sheet1!P18-temp!P18)","v":6.0000000000001025E-5},{"$f":"IF(Sheet1!Q18=temp!Q18,\"\",1/Sheet1!Q18-1/temp!Q18)","v":-3},{"$f":"IF(Sheet1!R18=temp!R18,\"\",1/Sheet1!R18-1/temp!R18)","v":12},{"$f":"IF(Sheet1!S18=temp!S18,\"\",1/Sheet1!S18-1/temp!S18)","v":-3},{"$f":"IF(Sheet1!T18=temp!T18,\"\",1/Sheet1!T18-1/temp!T18)","v":10.000000000000114},{"$f":"IF(Sheet1!U18=temp!U18,\"\",Sheet1!U18-temp!U18)","v":""},{"$f":"IF(Sheet1!V18=temp!V18,\"\",Sheet1!V18-temp!V18)","v":""}]
[null,{"$f":"IF(Sheet1!B19=temp!B19,\"\",Sheet1!B19-temp!B19)","v":""},{"$f":"IF(Sheet1!C19=temp!C19,\"\",Sheet1!C19-temp!C19)","v":""},{"$f":"IF(Sheet1!D19=temp!D19,\"\",Sheet1!D19-temp!D19)","v":3.9499999999998181},{"$f":"IF(Sheet1!E19=temp!E19,\"\",Sheet1!E19-temp!E19)","v":""},{"$f":"IF(Sheet1!F19=temp!F19,\"\",Sheet1!F19-temp!F19)","v":1.1999999999998678E-3},{"$f":"IF(Sheet1!G19=temp!G19,\"\",Sheet1!G19-temp!G19)","v":-1.9999999999997797E-4},{"$f":"IF(Sheet1!H19=temp!H19,\"\",Sheet1!H19-temp!H19)","v":3.9999999999995595E-4},{"$f":"IF(Sheet1!I19=temp!I19,\"\",Sheet1!I19-temp!I19)","v":-1.9999999999997797E-4},{"$f":"IF(Sheet1!J19=temp!J19,\"\",Sheet1!J19-temp!J19)","v":""},{"$f":"IF(Sheet1!K19=temp!K19,\"\",Sheet1!K19-temp!K19)","v":""},{"$f":"IF(Sheet1!L19=temp!L19,\"\",Sheet1!L19-temp!L19)","v":""},{"$f":"IF(Sheet1!M19=temp!M19,\"\",Sheet1!M19-temp!M19)","v":""},{"$f":"IF(Sheet1!N19=temp!N19,\"\",Sheet1!N19-temp!N19)","v":""},{"$f":"IF(Sheet1!O19=temp!O19,\"\",Sheet1!O19-temp!O19)","v":-2.9999999999998778E-5},{"$f":"IF(Sheet1!P19=temp!P19,\"\",Sheet1!P19-temp!P19)","v":4.9999999999997963E-5},{"$f":"IF(Sheet1!Q19=temp!Q19,\"\",1/Sheet1!Q19-1/temp!Q19)","v":-3},{"$f":"IF(Sheet1!R19=temp!R19,\"\",1/Sheet1!R19-1/temp!R19)","v":11},{"$f":"IF(Sheet1!S19=temp!S19,\"\",1/Sheet1!S19-1/temp!S19)","v":-4},{"$f":"IF(Sheet1!T19=temp!T19,\"\",1/Sheet1!T19-1/temp!T19)","v":9},{"$f":"IF(Sheet1!U19=temp!U19,\"\",Sheet1!U19-temp!U19)","v":""},{"$f":"IF(Sheet1!V19=temp!V19,\"\",Sheet1!V19-temp!V19)","v":""}]
[null,{"$f":"IF(Sheet1!B20=temp!B20,\"\",Sheet1!B20-temp!B20)","v":""},{"$f":"IF(Sheet1!C20=temp!C20,\"\",Sheet1!C20-temp!C20)","v":""},{"$f":"IF(Sheet1!D20=temp!D20,\"\",Sheet1!D20-temp!D20)","v":3.9499999999998181},{"$f":"IF(Sheet1!E20=temp!E20,\"\",Sheet1!E20-temp!E20)","v":""},{"$f":"IF(Sheet1!F20=temp!F20,\"\",Sheet1!F20-temp!F20)","v":9.9999999999988987E-4},{"$f":"IF(Sheet1!G20=temp!G20,\"\",Sheet1!G20-temp!G20)","v":-5.0000000000016698E-4},{"$f":"IF(Sheet1!H20=temp!H20,\"\",Sheet1!H20-temp!H20)","v":4.0000000000017799E-4},{"$f":"IF(Sheet1!I20=temp!I20,\"\",Sheet1!I20-temp!I20)","v":-1.9999999999997797E-4},{"$f":"IF(Sheet1!J20=temp!J20,\"\",Sheet1!J20-temp!J20)","v":""},{"$f":"IF(Sheet1!K20=temp!K20,\"\",Sheet1!K20-temp!K20)","v":-1.0000000000000009E-2},{"$f":"IF(Sheet1!L20=temp!L20,\"\",Sheet1!L20-temp!L20)","v":1.0000000000000009E-2},{"$f":"IF(Sheet1!M20=temp!M20,\"\",Sheet1!M20-temp!M20)","v":""},{"$f":"IF(Sheet1!N20=temp!N20,\"\",Sheet1!N20-temp!N20)","v":""},{"$f":"IF(Sheet1!O20=temp!O20,\"\",Sheet1!O20-temp!O20)","v":-2.0000000000002655E-5},{"$f":"IF(Sheet1!P20=temp!P20,\"\",Sheet1!P20-temp!P20)","v":4.9999999999997963E-5},{"$f":"IF(Sheet1!Q20=temp!Q20,\"\",1/Sheet1!Q20-1/temp!Q20)","v":-2},{"$f":"IF(Sheet1!R20=temp!R20,\"\",1/Sheet1!R20-1/temp!R20)","v":11},{"$f":"IF(Sheet1!S20=temp!S20,\"\",1/Sheet1!S20-1/temp!S20)","v":-3},{"$f":"IF(Sheet1!T20=temp!T20,\"\",1/Sheet1!T20-1/temp!T20)","v":9.9999999999998863},{"$f":"IF(Sheet1!U20=temp!U20,\"\",Sheet1!U20-temp!U20)","v":""},{"$f":"IF(Sheet1!V20=temp!V20,\"\",Sheet1!V20-temp!V20)","v":""}]
[null,{"$f":"IF(Sheet1!B21=temp!B21,\"\",Sheet1!B21-temp!B21)","v":""},{"$f":"IF(Sheet1!C21=temp!C21,\"\",Sheet1!C21-temp!C21)","v":""},{"$f":"IF(Sheet1!D21=temp!D21,\"\",Sheet1!D21-temp!D21)","v":3.9499999999998181},{"$f":"IF(Sheet1!E21=temp!E21,\"\",Sheet1!E21-temp!E21)","v":""},{"$f":"IF(Sheet1!F21=temp!F21,\"\",Sheet1!F21-temp!F21)","v":5.9999999999993392E-4},{"$f":"IF(Sheet1!G21=temp!G21,\"\",Sheet1!G21-temp!G21)","v":-4.9999999999994493E-4},{"$f":"IF(Sheet1!H21=temp!H21,\"\",Sheet1!H21-temp!H21)","v":1.9999999999997797E-4},{"$f":"IF(Sheet1!I21=temp!I21,\"\",Sheet1!I21-temp!I21)","v":-1.9999999999997797E-4},{"$f":"IF(Sheet1!J21=temp!J21,\"\",Sheet1!J21-temp!J21)","v":""},{"$f":"IF(Sheet1!K21=temp!K21,\"\",Sheet1!K21-temp!K21)","v":""},{"$f":"IF(Sheet1!L21=temp!L21,\"\",Sheet1!L21-temp!L21)","v":""},{"$f":"IF(Sheet1!M21=temp!M21,\"\",Sheet1!M21-temp!M21)","v":""},{"$f":"IF(Sheet1!N21=temp!N21,\"\",Sheet1!N21-temp!N21)","v":""},{"$f":"IF(Sheet1!O21=temp!O21,\"\",Sheet1!O21-temp!O21)","v":-1.9999999999999185E-5},{"$f":"IF(Sheet1!P21=temp!P21,\"\",Sheet1!P21-temp!P21)","v":4.9999999999997963E-5},{"$f":"IF(Sheet1!Q21=temp!Q21,\"\",1/Sheet1!Q21-1/temp!Q21)","v":-3},{"$f":"IF(Sheet1!R21=temp!R21,\"\",1/Sheet1!R21-1/temp!R21)","v":11},{"$f":"IF(Sheet1!S21=temp!S21,\"\",1/Sheet1!S21-1/temp!S21)","v":-4},{"$f":"IF(Sheet1!T21=temp!T21,\"\",1/Sheet1!T21-1/temp!T21)","v":9.0000000000001137},{"$f":"IF(Sheet1!U21=temp!U21,\"\",Sheet1!U21-temp!U21)","v":""},{"$f":"IF(Sheet1!V21=temp!V21,\"\",Sheet1!V21-temp!V21)","v":""}]
[null,{"$f":"IF(Sheet1!B22=temp!B22,\"\",Sheet1!B22-temp!B22)","v":""},{"$f":"IF(Sheet1!C22=temp!C22,\"\",Sheet1!C22-temp!C22)","v":""},{"$f":"IF(Sheet1!D22=temp!D22,\"\",Sheet1!D22-temp!D22)","v":3.9499999999998181},{"$f":"IF(Sheet1!E22=temp!E22,\"\",Sheet1!E22-temp!E22)","v":""},{"$f":"IF(Sheet1!F22=temp!F22,\"\",Sheet1!F22-temp!F22)","v":3.9999999999995595E-4},{"$f":"IF(Sheet1!G22=temp!G22,\"\",Sheet1!G22-temp!G22)","v":-6.9999999999992291E-4},{"$f":"IF(Sheet1!H22=temp!H22,\"\",Sheet1!H22-temp!H22)","v":9.9999999999988987E-5},{"$f":"IF(Sheet1!I22=temp!I22,\"\",Sheet1!I22-temp!I22)","v":-3.9999999999995595E-4},{"$f":"IF(Sheet1!J22=temp!J22,\"\",Sheet1!J22-temp!J22)","v":""},{"$f":"IF(Sheet1!K22=temp!K22,\"\",Sheet1!K22-temp!K22)","v":""},{"$f":"IF(Sheet1!L22=temp!L22,\"\",Sheet1!L22-temp!L22)","v":""},{"$f":"IF(Sheet1!M22=temp!M22,\"\",Sheet1!M22-temp!M22)","v":""},{"$f":"IF(Sheet1!N22=temp!N22,\"\",Sheet1!N22-temp!N22)","v":""},{"$f":"IF(Sheet1!O22=temp!O22,\"\",Sheet1!O22-temp!O22)","v":-2.0000000000002655E-5},{"$f":"IF(Sheet1!P22=temp!P22,\"\",Sheet1!P22-temp!P22)","v":3.999999999999837E-5},{"$f":"IF(Sheet1!Q22=temp!Q22,\"\",1/Sheet1!Q22-1/temp!Q22)","v":-2},{"$f":"IF(Sheet1!R22=temp!R22,\"\",1/Sheet1!R22-1/temp!R22)","v":11},{"$f":"IF(Sheet1!S22=temp!S22,\"\",1/Sheet1!S22-1/temp!S22)","v":-4},{"$f":"IF(Sheet1!T22=temp!T22,\"\",1/Sheet1!T22-1/temp!T22)","v":8.9999999999998863},{"$f":"IF(Sheet1!U22=temp!U22,\"\",Sheet1!U22-temp!U22)","v":""},{"$f":"IF(Sheet1!V22=temp!V22,\"\",Sheet1!V22-temp!V22)","v":""}]
[null,{"$f":"IF(Sheet1!B23=temp!B23,\"\",Sheet1!B23-temp!B23)","v":""},{"$f":"IF(Sheet1!C23=temp!C23,\"\",Sheet1!C23-temp!C23)","v":""},{"$f":"IF(Sheet1!D23=temp!D23,\"\",Sheet1!D23-temp!D23)","v":3.9499999999998181},{"$f":"IF(Sheet1!E23=temp!E23,\"\",Sheet1!E23-temp!E23)","v":""},{"$f":"IF(Sheet1!F23=temp!F23,\"\",Sheet1!F23-temp!F23)","v":2.9999999999996696E-4},{"$f":"IF(Sheet1!G23=temp!G23,\"\",Sheet1!G23-temp!G23)","v":-8.9999999999990088E-4},{"$f":"IF(Sheet1!H23=temp!H23,\"\",Sheet1!H23-temp!H23)","v":9.9999999999988987E-5},{"$f":"IF(Sheet1!I23=temp!I23,\"\",Sheet1!I23-temp!I23)","v":-3.9999999999995595E-4},{"$f":"IF(Sheet1!J23=temp!J23,\"\",Sheet1!J23-temp!J23)","v":""},{"$f":"IF(Sheet1!K23=temp!K23,\"\",Sheet1!K23-temp!K23)","v":""},{"$f":"IF(Sheet1!L23=temp!L23,\"\",Sheet1!L23-temp!L23)","v":""},{"$f":"IF(Sheet1!M23=temp!M23,\"\",Sheet1!M23-temp!M23)","v":""},{"$f":"IF(Sheet1!N23=temp!N23,\"\",Sheet1!N23-temp!N23)","v":""},{"$f":"IF(Sheet1!O23=temp!O23,\"\",Sheet1!O23-temp!O23)","v":-1.9999999999999185E-5},{"$f":"IF(Sheet1!P23=temp!P23,\"\",Sheet1!P23-temp!P23)","v":2.9999999999998778E-5},{"$f":"IF(Sheet1!Q23=temp!Q23,\"\",1/Sheet1!Q23-1/temp!Q23)","v":-2},{"$f":"IF(Sheet1!R23=temp!R23,\"\",1/Sheet1!R23-1/temp!R23)","v":12},{"$f":"IF(Sheet1!S23=temp!S23,\"\",1/Sheet1!S23-1/temp!S23)","v":-4},{"$f":"IF(Sheet1!T23=temp!T23,\"\",1/Sheet1!T23-1/temp!T23)","v":9.0000000000001137},{"$f":"IF(Sheet1!U23=temp!U23,\"\",Sheet1!U23-temp!U23)","v":""},{"$f":"IF(Sheet1!V23=temp!V23,\"\",Sheet1!V23-temp!V23)","v":""}]
[null,{"$f":"IF(Sheet1!B24=temp!B24,\"\",Sheet1!B24-temp!B24)","v":""},{"$f":"IF(Sheet1!C24=temp!C24,\"\",Sheet1!C24-temp!C24)","v":""},{"$f":"IF(Sheet1!D24=temp!D24,\"\",Sheet1!D24-temp!D24)","v":3.9499999999998181},{"$f":"IF(Sheet1!E24=temp!E24,\"\",Sheet1!E24-temp!E24)","v":""},{"$f":"IF(Sheet1!F24=temp!F24,\"\",Sheet1!F24-temp!F24)","v":2.9999999999996696E-4},{"$f":"IF(Sheet1!G24=temp!G24,\"\",Sheet1!G24-temp!G24)","v":-9.0000000000012292E-4},{"$f":"IF(Sheet1!H24=temp!H24,\"\",Sheet1!H24-temp!H24)","v":9.9999999999988987E-5},{"$f":"IF(Sheet1!I24=temp!I24,\"\",Sheet1!I24-temp!I24)","v":-5.0000000000016698E-4},{"$f":"IF(Sheet1!J24=temp!J24,\"\",Sheet1!J24-temp!J24)","v":""},{"$f":"IF(Sheet1!K24=temp!K24,\"\",Sheet1!K24-temp!K24)","v":""},{"$f":"IF(Sheet1!L24=temp!L24,\"\",Sheet1!L24-temp!L24)","v":""},{"$f":"IF(Sheet1!M24=temp!M24,\"\",Sheet1!M24-temp!M24)","v":""},{"$f":"IF(Sheet1!N24=temp!N24,\"\",Sheet1!N24-temp!N24)","v":""},{"$f":"IF(Sheet1!O24=temp!O24,\"\",Sheet1!O24-temp!O24)","v":-9.9999999999995925E-6},{"$f":"IF(Sheet1!P24=temp!P24,\"\",Sheet1!P24-temp!P24)","v":2.9999999999998778E-5},{"$f":"IF(Sheet1!Q24=temp!Q24,\"\",1/Sheet1!Q24-1/temp!Q24)","v":-3},{"$f":"IF(Sheet1!R24=temp!R24,\"\",1/Sheet1!R24-1/temp!R24)","v":11},{"$f":"IF(Sheet1!S24=temp!S24,\"\",1/Sheet1!S24-1/temp!S24)","v":-3},{"$f":"IF(Sheet1!T24=temp!T24,\"\",1/Sheet1!T24-1/temp!T24)","v":10},{"$f":"IF(Sheet1!U24=temp!U24,\"\",Sheet1!U24-temp!U24)","v":""},{"$f":"IF(Sheet1!V24=temp!V24,\"\",Sheet1!V24-temp!V24)","v":""}]
[null,{"$f":"IF(Sheet1!B25=temp!B25,\"\",Sheet1!B25-temp!B25)","v":""},{"$f":"IF(Sheet1!C25=temp!C25,\"\",Sheet1!C25-temp!C25)","v":""},{"$f":"IF(Sheet1!D25=temp!D25,\"\",Sheet1!D25-temp!D25)","v":3.9499999999998181},{"$f":"IF(Sheet1!E25=temp!E25,\"\",Sheet1!E25-temp!E25)","v":""},{"$f":"IF(Sheet1!F25=temp!F25,\"\",Sheet1!F25-temp!F25)","v":1.9999999999997797E-4},{"$f":"IF(Sheet1!G25=temp!G25,\"\",Sheet1!G25-temp!G25)","v":-9.9999999999988987E-4},{"$f":"IF(Sheet1!H25=temp!H25,\"\",Sheet1!H25-temp!H25)","v":""},{"$f":"IF(Sheet1!I25=temp!I25,\"\",Sheet1!I25-temp!I25)","v":-4.0000000000017799E-4},{"$f":"IF(Sheet1!J25=temp!J25,\"\",Sheet1!J25-temp!J25)","v":""},{"$f":"IF(Sheet1!K25=temp!K25,\"\",Sheet1!K25-temp!K25)","v":""},{"$f":"IF(Sheet1!L25=temp!L25,\"\",Sheet1!L25-temp!L25)","v":""},{"$f":"IF(Sheet1!M25=temp!M25,\"\",Sheet1!M25-temp!M25)","v":""},{"$f":"IF(Sheet1!N25=temp!N25,\"\",Sheet1!N25-temp!N25)","v":""},{"$f":"IF(Sheet1!O25=temp!O25,\"\",Sheet1!O25-temp!O25)","v":-1.9999999999999185E-5},{"$f":"IF(Sheet1!P25=temp!P25,\"\",Sheet1!P25-temp!P25)","v":1.9999999999999185E-5},{"$f":"IF(Sheet1!Q25=temp!Q25,\"\",1/Sheet1!Q25-1/temp!Q25)","v":-3},{"$f":"IF(Sheet1!R25=temp!R25,\"\",1/Sheet1!R25-1/temp!R25)","v":11},{"$f":"IF(Sheet1!S25=temp!S25,\"\",1/Sheet1!S25-1/temp!S25)","v":-3},{"$f":"IF(Sheet1!T25=temp!T25,\"\",1/Sheet1!T25-1/temp!T25)","v":10},{"$f":"IF(Sheet1!U25=temp!U25,\"\",Sheet1!U25-temp!U25)","v":""},{"$f":"IF(Sheet1!V25=temp!V25,\"\",Sheet1!V25-temp!V25)","v":""}]
[null,{"$f":"IF(Sheet1!B26=temp!B26,\"\",Sheet1!B26-temp!B26)","v":""},{"$f":"IF(Sheet1!C26=temp!C26,\"\",Sheet1!C26-temp!C26)","v":""},{"$f":"IF(Sheet1!D26=temp!D26,\"\",Sheet1!D26-temp!D26)","v":3.9499999999998181},{"$f":"IF(Sheet1!E26=temp!E26,\"\",Sheet1!E26-temp!E26)","v":""},{"$f":"IF(Sheet1!F26=temp!F26,\"\",Sheet1!F26-temp!F26)","v":-9.9999999999988987E-5},{"$f":"IF(Sheet1!G26=temp!G26,\"\",Sheet1!G26-temp!G26)","v":-9.9999999999988987E-4},{"$f":"IF(Sheet1!H26=temp!H26,\"\",Sheet1!H26-temp!H26)","v":-1.0000000000021103E-4},{"$f":"IF(Sheet1!I26=temp!I26,\"\",Sheet1!I26-temp!I26)","v":-3.9999999999995595E-4},{"$f":"IF(Sheet1!J26=temp!J26,\"\",Sheet1!J26-temp!J26)","v":""},{"$f":"IF(Sheet1!K26=temp!K26,\"\",Sheet1!K26-temp!K26)","v":""},{"$f":"IF(Sheet1!L26=temp!L26,\"\",Sheet1!L26-temp!L26)","v":""},{"$f":"IF(Sheet1!M26=temp!M26,\"\",Sheet1!M26-temp!M26)","v":""},{"$f":"IF(Sheet1!N26=temp!N26,\"\",Sheet1!N26-temp!N26)","v":""},{"$f":"IF(Sheet1!O26=temp!O26,\"\",Sheet1!O26-temp!O26)","v":-1.9999999999999185E-5},{"$f":"IF(Sheet1!P26=temp!P26,\"\",Sheet1!P26-temp!P26)","v":1.9999999999999185E-5},{"$f":"IF(Sheet1!Q26=temp!Q26,\"\",1/Sheet1!Q26-1/temp!Q26)","v":-3},{"$f":"IF(Sheet1!R26=temp!R26,\"\",1/Sheet1!R26-1/temp!R26)","v":11},{"$f":"IF(Sheet1!S26=temp!S26,\"\",1/Sheet1!S26-1/temp!S26)","v":-3},{"$f":"IF(Sheet1!T26=temp!T26,\"\",1/Sheet1!T26-1/temp!T26)","v":9},{"$f":"IF(Sheet1!U26=temp!U26,\"\",Sheet1!U26-temp!U26)","v":""},{"$f":"IF(Sheet1!V26=temp!V26,\"\",Sheet1!V26-temp!V26)","v":""}]
[null,{"$f":"IF(Sheet1!B27=temp!B27,\"\",Sheet1!B27-temp!B27)","v":""},{"$f":"IF(Sheet1!C27=temp!C27,\"\",Sheet1!C27-temp!C27)","v":""},{"$f":"IF(Sheet1!D27=temp!D27,\"\",Sheet1!D27-temp!D27)","v":3.9499999999998181},{"$f":"IF(Sheet1!E27=temp!E27,\"\",Sheet1!E27-temp!E27)","v":""},{"$f":"IF(Sheet1!F27=temp!F27,\"\",Sheet1!F27-temp!F27)","v":-9.9999999999988987E-5},{"$f":"IF(Sheet1!G27=temp!G27,\"\",Sheet1!G27-temp!G27)","v":-8.9999999999990088E-4},{"$f":"IF(Sheet1!H27=temp!H27,\"\",Sheet1!H27-temp!H27)","v":""},{"$f":"IF(Sheet1!I27=temp!I27,\"\",Sheet1!I27-temp!I27)","v":-4.0000000000017799E-4},{"$f":"IF(Sheet1!J27=temp!J27,\"\",Sheet1!J27-temp!J27)","v":""},{"$f":"IF(Sheet1!K27=temp!K27,\"\",Sheet1!K27-temp!K27)","v":""},{"$f":"IF(Sheet1!L27=temp!L27,\"\",Sheet1!L27-temp!L27)","v":""},{"$f":"IF(Sheet1!M27=temp!M27,\"\",Sheet1!M27-temp!M27)","v":""},{"$f":"IF(Sheet1!N27=temp!N27,\"\",Sheet1!N27-temp!N27)","v":""},{"$f":"IF(Sheet1!O27=temp!O27,\"\",Sheet1!O27-temp!O27)","v":-1.9999999999999185E-5},{"$f":"IF(Sheet1!P27=temp!P27,\"\",Sheet1!P27-temp!P27)","v":9.9999999999995925E-6},{"$f":"IF(Sheet1!Q27=temp!Q27,\"\",1/Sheet1!Q27-1/temp!Q27)","v":-3},{"$f":"IF(Sheet1!R27=temp!R27,\"\",1/Sheet1!R27-1/temp!R27)","v":11},{"$f":"IF(Sheet1!S27=temp!S27,\"\",1/Sheet1!S27-1/temp!S27)","v":-4},{"$f":"IF(Sheet1!T27=temp!T27,\"\",1/Sheet1!T27-1/temp!T27)","v":10},{"$f":"IF(Sheet1!U27=temp!U27,\"\",Sheet1!U27-temp!U27)","v":""},{"$f":"IF(Sheet1!V27=temp!V27,\"\",Sheet1!V27-temp!V27)","v":""}]
[null,{"$f":"IF(Sheet1!B28=temp!B28,\"\",Sheet1!B28-temp!B28)","v":""},{"$f":"IF(Sheet1!C28=temp!C28,\"\",Sheet1!C28-temp!C28)","v":""},{"$f":"IF(Sheet1!D28=temp!D28,\"\",Sheet1!D28-temp!D28)","v":3.9499999999998181},{"$f":"IF(Sheet1!E28=temp!E28,\"\",Sheet1!E28-temp!E28)","v":""},{"$f":"IF(Sheet1!F28=temp!F28,\"\",Sheet1!F28-temp!F28)","v":""},{"$f":"IF(Sheet1!G28=temp!G28,\"\",Sheet1!G28-temp!G28)","v":-9.9999999999988987E-4},{"$f":"IF(Sheet1!H28=temp!H28,\"\",Sheet1!H28-temp!H28)","v":9.9999999999988987E-5},{"$f":"IF(Sheet1!I28=temp!I28,\"\",Sheet1!I28-temp!I28)","v":-5.0000000000016698E-4},{"$f":"IF(Sheet1!J28=temp!J28,\"\",Sheet1!J28-temp!J28)","v":""},{"$f":"IF(Sheet1!K28=temp!K28,\"\",Sheet1!K28-temp!K28)","v":""},{"$f":"IF(Sheet1!L28=temp!L28,\"\",Sheet1!L28-temp!L28)","v":""},{"$f":"IF(Sheet1!M28=temp!M28,\"\",Sheet1!M28-temp!M28)","v":""},{"$f":"IF(Sheet1!N28=temp!N28,\"\",Sheet1!N28-temp!N28)","v":""},{"$f":"IF(Sheet1!O28=temp!O28,\"\",Sheet1!O28-temp!O28)","v":-1.9999999999999185E-5},{"$f":"IF(Sheet1!P28=temp!P28,\"\",Sheet1!P28-temp!P28)","v":9.9999999999995925E-6},{"$f":"IF(Sheet1!Q28=temp!Q28,\"\",1/Sheet1!Q28-1/temp!Q28)","v":-3},{"$f":"IF(Sheet1!R28=temp!R28,\"\",1/Sheet1!R28-1/temp!R28)","v":9.9999999999997726},{"$f":"IF(Sheet1!S28=temp!S28,\"\",1/Sheet1!S28-1/temp!S28)","v":-4},{"$f":"IF(Sheet1!T28=temp!T28,\"\",1/Sheet1!T28-1/temp!T28)","v":9},{"$f":"IF(Sheet1!U28=temp!U28,\"\",Sheet1!U28-temp!U28)","v":""},{"$f":"IF(Sheet1!V28=temp!V28,\"\",Sheet1!V28-temp!V28)","v":""}]
[null,{"$f":"IF(Sheet1!B29=temp!B29,\"\",Sheet1!B29-temp!B29)","v":""},{"$f":"IF(Sheet1!C29=temp!C29,\"\",Sheet1!C29-temp!C29)","v":""},{"$f":"IF(Sheet1!D29=temp!D29,\"\",Sheet1!D29-temp!D29)","v":3.9499999999998181},{"$f":"IF(Sheet1!E29=temp!E29,\"\",Sheet1!E29-temp!E29)","v":""},{"$f":"IF(Sheet1!F29=temp!F29,\"\",Sheet1!F29-temp!F29)","v":1.9999999999997797E-4},{"$f":"IF(Sheet1!G29=temp!G29,\"\",Sheet1!G29-temp!G29)","v":-1.1000000000001009E-3},{"$f":"IF(Sheet1!H29=temp!H29,\"\",Sheet1!H29-temp!H29)","v":2.0000000000020002E-4},{"$f":"IF(Sheet1!I29=temp!I29,\"\",Sheet1!I29-temp!I29)","v":-4.9999999999994493E-4},{"$f":"IF(Sheet1!J29=temp!J29,\"\",Sheet1!J29-temp!J29)","v":""},{"$f":"IF(Sheet1!K29=temp!K29,\"\",Sheet1!K29-temp!K29)","v":""},{"$f":"IF(Sheet1!L29=temp!L29,\"\",Sheet1!L29-temp!L29)","v":""},{"$f":"IF(Sheet1!M29=temp!M29,\"\",Sheet1!M29-temp!M29)","v":""},{"$f":"IF(Sheet1!N29=temp!N29,\"\",Sheet1!N29-temp!N29)","v":""},{"$f":"IF(Sheet1!O29=temp!O29,\"\",Sheet1!O29-temp!O29)","v":-3.0000000000002247E-5},{"$f":"IF(Sheet1!P29=temp!P29,\"\",Sheet1!P29-temp!P29)","v":9.9999999999995925E-6},{"$f":"IF(Sheet1!Q29=temp!Q29,\"\",1/Sheet1!Q29-1/temp!Q29)","v":-2},{"$f":"IF(Sheet1!R29=temp!R29,\"\",1/Sheet1!R29-1/temp!R29)","v":10},{"$f":"IF(Sheet1!S29=temp!S29,\"\",1/Sheet1!S29-1/temp!S29)","v":-3},{"$f":"IF(Sheet1!T29=temp!T29,\"\",1/Sheet1!T29-1/temp!T29)","v":9},{"$f":"IF(Sheet1!U29=temp!U29,\"\",Sheet1!U29-temp!U29)","v":""},{"$f":"IF(Sheet1!V29=temp!V29,\"\",Sheet1!V29-temp!V29)","v":""}]
[null,{"$f":"IF(Sheet1!B30=temp!B30,\"\",Sheet1!B30-temp!B30)","v":""},{"$f":"IF(Sheet1!C30=temp!C30,\"\",Sheet1!C30-temp!C30)","v":""},{"$f":"IF(Sheet1!D30=temp!D30,\"\",Sheet1!D30-temp!D30)","v":3.9499999999998181},{"$f":"IF(Sheet1!E30=temp!E30,\"\",Sheet1!E30-temp!E30)","v":""},{"$f":"IF(Sheet1!F30=temp!F30,\"\",Sheet1!F30-temp!F30)","v":6.0000000000015596E-4},{"$f":"IF(Sheet1!G30=temp!G30,\"\",Sheet1!G30-temp!G30)","v":-1.5000000000000568E-3},{"$f":"IF(Sheet1!H30=temp!H30,\"\",Sheet1!H30-temp!H30)","v":3.9999999999995595E-4},{"$f":"IF(Sheet1!I30=temp!I30,\"\",Sheet1!I30-temp!I30)","v":-7.9999999999991189E-4},{"$f":"IF(Sheet1!J30=temp!J30,\"\",Sheet1!J30-temp!J30)","v":""},{"$f":"IF(Sheet1!K30=temp!K30,\"\",Sheet1!K30-temp!K30)","v":""},{"$f":"IF(Sheet1!L30=temp!L30,\"\",Sheet1!L30-temp!L30)","v":""},{"$f":"IF(Sheet1!M30=temp!M30,\"\",Sheet1!M30-temp!M30)","v":""},{"$f":"IF(Sheet1!N30=temp!N30,\"\",Sheet1!N30-temp!N30)","v":""},{"$f":"IF(Sheet1!O30=temp!O30,\"\",Sheet1!O30-temp!O30)","v":-2.0000000000002655E-5},{"$f":"IF(Sheet1!P30=temp!P30,\"\",Sheet1!P30-temp!P30)","v":9.9999999999995925E-6},{"$f":"IF(Sheet1!Q30=temp!Q30,\"\",1/Sheet1!Q30-1/temp!Q30)","v":-2},{"$f":"IF(Sheet1!R30=temp!R30,\"\",1/Sheet1!R30-1/temp!R30)","v":9},{"$f":"IF(Sheet1!S30=temp!S30,\"\",1/Sheet1!S30-1/temp!S30)","v":-3},{"$f":"IF(Sheet1!T30=temp!T30,\"\",1/Sheet1!T30-1/temp!T30)","v":9},{"$f":"IF(Sheet1!U30=temp!U30,\"\",Sheet1!U30-temp!U30)","v":""},{"$f":"IF(Sheet1!V30=temp!V30,\"\",Sheet1!V30-temp!V30)","v":""}]
[null,{"$f":"IF(Sheet1!B31=temp!B31,\"\",Sheet1!B31-temp!B31)","v":""},{"$f":"IF(Sheet1!C31=temp!C31,\"\",Sheet1!C31-temp!C31)","v":""},{"$f":"IF(Sheet1!D31=temp!D31,\"\",Sheet1!D31-temp!D31)","v":1.8400000000001455},{"$f":"IF(Sheet1!E31=temp!E31,\"\",Sheet1!E31-temp!E31)","v":""},{"$f":"IF(Sheet1!F31=temp!F31,\"\",Sheet1!F31-temp!F31)","v":""},{"$f":"IF(Sheet1!G31=temp!G31,\"\",Sheet1!G31-temp!G31)","v":-5.9999999999993392E-4},{"$f":"IF(Sheet1!H31=temp!H31,\"\",Sheet1!H31-temp!H31)","v":-2.9999999999996696E-4},{"$f":"IF(Sheet1!I31=temp!I31,\"\",Sheet1!I31-temp!I31)","v":1.9999999999997797E-4},{"$f":"IF(Sheet1!J31=temp!J31,\"\",Sheet1!J31-temp!J31)","v":""},{"$f":"IF(Sheet1!K31=temp!K31,\"\",Sheet1!K31-temp!K31)","v":""},{"$f":"IF(Sheet1!L31=temp!L31,\"\",Sheet1!L31-temp!L31)","v":""},{"$f":"IF(Sheet1!M31=temp!M31,\"\",Sheet1!M31-temp!M31)","v":""},{"$f":"IF(Sheet1!N31=temp!N31,\"\",Sheet1!N31-temp!N31)","v":""},{"$f":"IF(Sheet1!O31=temp!O31,\"\",Sheet1!O31-temp!O31)","v":-1.9999999999999185E-5},{"$f":"IF(Sheet1!P31=temp!P31,\"\",Sheet1!P31-temp!P31)","v":9.9999999999995925E-6},{"$f":"IF(Sheet1!Q31=temp!Q31,\"\",1/Sheet1!Q31-1/temp!Q31)","v":-3},{"$f":"IF(Sheet1!R31=temp!R31,\"\",1/Sheet1!R31-1/temp!R31)","v":10.000000000000227},{"$f":"IF(Sheet1!S31=temp!S31,\"\",1/Sheet1!S31-1/temp!S31)","v":-4},{"$f":"IF(Sheet1!T31=temp!T31,\"\",1/Sheet1!T31-1/temp!T31)","v":9},{"$f":"IF(Sheet1!U31=temp!U31,\"\",Sheet1!U31-temp!U31)","v":""},{"$f":"IF(Sheet1!V31=temp!V31,\"\",Sheet1!V31-temp!V31)","v":""}]
[null,{"$f":"IF(Sheet1!B32=temp!B32,\"\",Sheet1!B32-temp!B32)","v":""},{"$f":"IF(Sheet1!C32=temp!C32,\"\",Sheet1!C32-temp!C32)","v":""},{"$f":"IF(Sheet1!D32=temp!D32,\"\",Sheet1!D32-temp!D32)","v":3.9400000000000546},{"$f":"IF(Sheet1!E32=temp!E32,\"\",Sheet1!E32-temp!E32)","v":""},{"$f":"IF(Sheet1!F32=temp!F32,\"\",Sheet1!F32-temp!F32)","v":1.2000000000000899E-3},{"$f":"IF(Sheet1!G32=temp!G32,\"\",Sheet1!G32-temp!G32)","v":4.9999999999994493E-4},{"$f":"IF(Sheet1!H32=temp!H32,\"\",Sheet1!H32-temp!H32)","v":1.2000000000000899E-3},{"$f":"IF(Sheet1!I32=temp!I32,\"\",Sheet1!I32-temp!I32)","v":6.0000000000015596E-4},{"$f":"IF(Sheet1!J32=temp!J32,\"\",Sheet1!J32-temp!J32)","v":""},{"$f":"IF(Sheet1!K32=temp!K32,\"\",Sheet1!K32-temp!K32)","v":-1.0000000000000009E-2},{"$f":"IF(Sheet1!L32=temp!L32,\"\",Sheet1!L32-temp!L32)","v":""},{"$f":"IF(Sheet1!M32=temp!M32,\"\",Sheet1!M32-temp!M32)","v":""},{"$f":"IF(Sheet1!N32=temp!N32,\"\",Sheet1!N32-temp!N32)","v":""},{"$f":"IF(Sheet1!O32=temp!O32,\"\",Sheet1!O32-temp!O32)","v":-1.9999999999999185E-5},{"$f":"IF(Sheet1!P32=temp!P32,\"\",Sheet1!P32-temp!P32)","v":9.9999999999995925E-6},{"$f":"IF(Sheet1!Q32=temp!Q32,\"\",1/Sheet1!Q32-1/temp!Q32)","v":-2},{"$f":"IF(Sheet1!R32=temp!R32,\"\",1/Sheet1!R32-1/temp!R32)","v":11.000000000000227},{"$f":"IF(Sheet1!S32=temp!S32,\"\",1/Sheet1!S32-1/temp!S32)","v":-2},{"$f":"IF(Sheet1!T32=temp!T32,\"\",1/Sheet1!T32-1/temp!T32)","v":10},{"$f":"IF(Sheet1!U32=temp!U32,\"\",Sheet1!U32-temp!U32)","v":""},{"$f":"IF(Sheet1!V32=temp!V32,\"\",Sheet1!V32-temp!V32)","v":""}]
[null,{"$f":"IF(Sheet1!B33=temp!B33,\"\",Sheet1!B33-temp!B33)","v":""},{"$f":"IF(Sheet1!C33=temp!C33,\"\",Sheet1!C33-temp!C33)","v":""},{"$f":"IF(Sheet1!D33=temp!D33,\"\",Sheet1!D33-temp!D33)","v":3.9400000000000546},{"$f":"IF(Sheet1!E33=temp!E33,\"\",Sheet1!E33-temp!E33)","v":""},{"$f":"IF(Sheet1!F33=temp!F33,\"\",Sheet1!F33-temp!F33)","v":1.7000000000000348E-3},{"$f":"IF(Sheet1!G33=temp!G33,\"\",Sheet1!G33-temp!G33)","v":-6.0000000000015596E-4},{"$f":"IF(Sheet1!H33=temp!H33,\"\",Sheet1!H33-temp!H33)","v":7.9999999999991189E-4},{"$f":"IF(Sheet1!I33=temp!I33,\"\",Sheet1!I33-temp!I33)","v":-8.9999999999990088E-4},{"$f":"IF(Sheet1!J33=temp!J33,\"\",Sheet1!J33-temp!J33)","v":""},{"$f":"IF(Sheet1!K33=temp!K33,\"\",Sheet1!K33-temp!K33)","v":""},{"$f":"IF(Sheet1!L33=temp!L33,\"\",Sheet1!L33-temp!L33)","v":""},{"$f":"IF(Sheet1!M33=temp!M33,\"\",Sheet1!M33-temp!M33)","v":""},{"$f":"IF(Sheet1!N33=temp!N33,\"\",Sheet1!N33-temp!N33)","v":""},{"$f":"IF(Sheet1!O33=temp!O33,\"\",Sheet1!O33-temp!O33)","v":-1.9999999999999185E-5},{"$f":"IF(Sheet1!P33=temp!P33,\"\",Sheet1!P33-temp!P33)","v":9.9999999999995925E-6},{"$f":"IF(Sheet1!Q33=temp!Q33,\"\",1/Sheet1!Q33-1/temp!Q33)","v":-2},{"$f":"IF(Sheet1!R33=temp!R33,\"\",1/Sheet1!R33-1/temp!R33)","v":9.9999999999997726},{"$f":"IF(Sheet1!S33=temp!S33,\"\",1/Sheet1!S33-1/temp!S33)","v":-1},{"$f":"IF(Sheet1!T33=temp!T33,\"\",1/Sheet1!T33-1/temp!T33)","v":10},{"$f":"IF(Sheet1!U33=temp!U33,\"\",Sheet1!U33-temp!U33)","v":""},{"$f":"IF(Sheet1!V33=temp!V33,\"\",Sheet1!V33-temp!V33)","v":""}]
[null,{"$f":"IF(Sheet1!B34=temp!B34,\"\",Sheet1!B34-temp!B34)","v":""},{"$f":"IF(Sheet1!C34=temp!C34,\"\",Sheet1!C34-temp!C34)","v":""},{"$f":"IF(Sheet1!D34=temp!D34,\"\",Sheet1!D34-temp!D34)","v":3.9400000000000546},{"$f":"IF(Sheet1!E34=temp!E34,\"\",Sheet1!E34-temp!E34)","v":""},{"$f":"IF(Sheet1!F34=temp!F34,\"\",Sheet1!F34-temp!F34)","v":2.0999999999999908E-3},{"$f":"IF(Sheet1!G34=temp!G34,\"\",Sheet1!G34-temp!G34)","v":-1.2000000000000899E-3},{"$f":"IF(Sheet1!H34=temp!H34,\"\",Sheet1!H34-temp!H34)","v":8.9999999999990088E-4},{"$f":"IF(Sheet1!I34=temp!I34,\"\",Sheet1!I34-temp!I34)","v":-5.9999999999993392E-4},{"$f":"IF(Sheet1!J34=temp!J34,\"\",Sheet1!J34-temp!J34)","v":""},{"$f":"IF(Sheet1!K34=temp!K34,\"\",Sheet1!K34-temp!K34)","v":""},{"$f":"IF(Sheet1!L34=temp!L34,\"\",Sheet1!L34-temp!L34)","v":""},{"$f":"IF(Sheet1!M34=temp!M34,\"\",Sheet1!M34-temp!M34)","v":""},{"$f":"IF(Sheet1!N34=temp!N34,\"\",Sheet1!N34-temp!N34)","v":""},{"$f":"IF(Sheet1!O34=temp!O34,\"\",Sheet1!O34-temp!O34)","v":-9.9999999999995925E-6},{"$f":"IF(Sheet1!P34=temp!P34,\"\",Sheet1!P34-temp!P34)","v":9.9999999999995925E-6},{"$f":"IF(Sheet1!Q34=temp!Q34,\"\",1/Sheet1!Q34-1/temp!Q34)","v":-1},{"$f":"IF(Sheet1!R34=temp!R34,\"\",1/Sheet1!R34-1/temp!R34)","v":10},{"$f":"IF(Sheet1!S34=temp!S34,\"\",1/Sheet1!S34-1/temp!S34)","v":""},{"$f":"IF(Sheet1!T34=temp!T34,\"\",1/Sheet1!T34-1/temp!T34)","v":10},{"$f":"IF(Sheet1!U34=temp!U34,\"\",Sheet1!U34-temp!U34)","v":""},{"$f":"IF(Sheet1!V34=temp!V34,\"\",Sheet1!V34-temp!V34)","v":""}]
[null,{"$f":"IF(Sheet1!B35=temp!B35,\"\",Sheet1!B35-temp!B35)","v":""},{"$f":"IF(Sheet1!C35=temp!C35,\"\",Sheet1!C35-temp!C35)","v":""},{"$f":"IF(Sheet1!D35=temp!D35,\"\",Sheet1!D35-temp!D35)","v":3.9400000000000546},{"$f":"IF(Sheet1!E35=temp!E35,\"\",Sheet1!E35-temp!E35)","v":""},{"$f":"IF(Sheet1!F35=temp!F35,\"\",Sheet1!F35-temp!F35)","v":2.2999999999999687E-3},{"$f":"IF(Sheet1!G35=temp!G35,\"\",Sheet1!G35-temp!G35)","v":-1.6999999999998128E-3},{"$f":"IF(Sheet1!H35=temp!H35,\"\",Sheet1!H35-temp!H35)","v":1.0999999999998789E-3},{"$f":"IF(Sheet1!I35=temp!I35,\"\",Sheet1!I35-temp!I35)","v":-6.9999999999992291E-4},{"$f":"IF(Sheet1!J35=temp!J35,\"\",Sheet1!J35-temp!J35)","v":""},{"$f":"IF(Sheet1!K35=temp!K35,\"\",Sheet1!K35-temp!K35)","v":""},{"$f":"IF(Sheet1!L35=temp!L35,\"\",Sheet1!L35-temp!L35)","v":""},{"$f":"IF(Sheet1!M35=temp!M35,\"\",Sheet1!M35-temp!M35)","v":""},{"$f":"IF(Sheet1!N35=temp!N35,\"\",Sheet1!N35-temp!N35)","v":""},{"$f":"IF(Sheet1!O35=temp!O35,\"\",Sheet1!O35-temp!O35)","v":""},{"$f":"IF(Sheet1!P35=temp!P35,\"\",Sheet1!P35-temp!P35)","v":1.9999999999999185E-5},{"$f":"IF(Sheet1!Q35=temp!Q35,\"\",1/Sheet1!Q35-1/temp!Q35)","v":""},{"$f":"IF(Sheet1!R35=temp!R35,\"\",1/Sheet1!R35-1/temp!R35)","v":9},{"$f":"IF(Sheet1!S35=temp!S35,\"\",1/Sheet1!S35-1/temp!S35)","v":2},{"$f":"IF(Sheet1!T35=temp!T35,\"\",1/Sheet1!T35-1/temp!T35)","v":10},{"$f":"IF(Sheet1!U35=temp!U35,\"\",Sheet1!U35-temp!U35)","v":""},{"$f":"IF(Sheet1!V35=temp!V35,\"\",Sheet1!V35-temp!V35)","v":""}]
[null,{"$f":"IF(Sheet1!B36=temp!B36,\"\",Sheet1!B36-temp!B36)","v":""},{"$f":"IF(Sheet1!C36=temp!C36,\"\",Sheet1!C36-temp!C36)","v":""},{"$f":"IF(Sheet1!D36=temp!D36,\"\",Sheet1!D36-temp!D36)","v":3.9400000000000546},{"$f":"IF(Sheet1!E36=temp!E36,\"\",Sheet1!E36-temp!E36)","v":""},{"$f":"IF(Sheet1!F36=temp!F36,\"\",Sheet1!F36-temp!F36)","v":2.5999999999999357E-3},{"$f":"IF(Sheet1!G36=temp!G36,\"\",Sheet1!G36-temp!G36)","v":-1.7000000000000348E-3},{"$f":"IF(Sheet1!H36=temp!H36,\"\",Sheet1!H36-temp!H36)","v":1.1999999999998678E-3},{"$f":"IF(Sheet1!I36=temp!I36,\"\",Sheet1!I36-temp!I36)","v":-7.0000000000014495E-4},{"$f":"IF(Sheet1!J36=temp!J36,\"\",Sheet1!J36-temp!J36)","v":""},{"$f":"IF(Sheet1!K36=temp!K36,\"\",Sheet1!K36-temp!K36)","v":""},{"$f":"IF(Sheet1!L36=temp!L36,\"\",Sheet1!L36-temp!L36)","v":""},{"$f":"IF(Sheet1!M36=temp!M36,\"\",Sheet1!M36-temp!M36)","v":""},{"$f":"IF(Sheet1!N36=temp!N36,\"\",Sheet1!N36-temp!N36)","v":""},{"$f":"IF(Sheet1!O36=temp!O36,\"\",Sheet1!O36-temp!O36)","v":9.9999999999995925E-6},{"$f":"IF(Sheet1!P36=temp!P36,\"\",Sheet1!P36-temp!P36)","v":9.9999999999995925E-6},{"$f":"IF(Sheet1!Q36=temp!Q36,\"\",1/Sheet1!Q36-1/temp!Q36)","v":""},{"$f":"IF(Sheet1!R36=temp!R36,\"\",1/Sheet1!R36-1/temp!R36)","v":8},{"$f":"IF(Sheet1!S36=temp!S36,\"\",1/Sheet1!S36-1/temp!S36)","v":3},{"$f":"IF(Sheet1!T36=temp!T36,\"\",1/Sheet1!T36-1/temp!T36)","v":9},{"$f":"IF(Sheet1!U36=temp!U36,\"\",Sheet1!U36-temp!U36)","v":""},{"$f":"IF(Sheet1!V36=temp!V36,\"\",Sheet1!V36-temp!V36)","v":""}]
[null,{"$f":"IF(Sheet1!B37=temp!B37,\"\",Sheet1!B37-temp!B37)","v":""},{"$f":"IF(Sheet1!C37=temp!C37,\"\",Sheet1!C37-temp!C37)","v":""},{"$f":"IF(Sheet1!D37=temp!D37,\"\",Sheet1!D37-temp!D37)","v":3.9400000000000546},{"$f":"IF(Sheet1!E37=temp!E37,\"\",Sheet1!E37-temp!E37)","v":""},{"$f":"IF(Sheet1!F37=temp!F37,\"\",Sheet1!F37-temp!F37)","v":2.9999999999998916E-3},{"$f":"IF(Sheet1!G37=temp!G37,\"\",Sheet1!G37-temp!G37)","v":-1.8000000000000238E-3},{"$f":"IF(Sheet1!H37=temp!H37,\"\",Sheet1!H37-temp!H37)","v":1.4000000000000679E-3},{"$f":"IF(Sheet1!I37=temp!I37,\"\",Sheet1!I37-temp!I37)","v":-8.9999999999990088E-4},{"$f":"IF(Sheet1!J37=temp!J37,\"\",Sheet1!J37-temp!J37)","v":""},{"$f":"IF(Sheet1!K37=temp!K37,\"\",Sheet1!K37-temp!K37)","v":""},{"$f":"IF(Sheet1!L37=temp!L37,\"\",Sheet1!L37-temp!L37)","v":""},{"$f":"IF(Sheet1!M37=temp!M37,\"\",Sheet1!M37-temp!M37)","v":""},{"$f":"IF(Sheet1!N37=temp!N37,\"\",Sheet1!N37-temp!N37)","v":""},{"$f":"IF(Sheet1!O37=temp!O37,\"\",Sheet1!O37-temp!O37)","v":9.9999999999995925E-6},{"$f":"IF(Sheet1!P37=temp!P37,\"\",Sheet1!P37-temp!P37)","v":9.9999999999995925E-6},{"$f":"IF(Sheet1!Q37=temp!Q37,\"\",1/Sheet1!Q37-1/temp!Q37)","v":1},{"$f":"IF(Sheet1!R37=temp!R37,\"\",1/Sheet1!R37-1/temp!R37)","v":7},{"$f":"IF(Sheet1!S37=temp!S37,\"\",1/Sheet1!S37-1/temp!S37)","v":5},{"$f":"IF(Sheet1!T37=temp!T37,\"\",1/Sheet1!T37-1/temp!T37)","v":9},{"$f":"IF(Sheet1!U37=temp!U37,\"\",Sheet1!U37-temp!U37)","v":""},{"$f":"IF(Sheet1!V37=temp!V37,\"\",Sheet1!V37-temp!V37)","v":""}]
[null,{"$f":"IF(Sheet1!B38=temp!B38,\"\",Sheet1!B38-temp!B38)","v":""},{"$f":"IF(Sheet1!C38=temp!C38,\"\",Sheet1!C38-temp!C38)","v":""},{"$f":"IF(Sheet1!D38=temp!D38,\"\",Sheet1!D38-temp!D38)","v":3.9400000000000546},{"$f":"IF(Sheet1!E38=temp!E38,\"\",Sheet1!E38-temp!E38)","v":""},{"$f":"IF(Sheet1!F38=temp!F38,\"\",Sheet1!F38-temp!F38)","v":3.4000000000000696E-3},{"$f":"IF(Sheet1!G38=temp!G38,\"\",Sheet1!G38-temp!G38)","v":-2.0999999999999908E-3},{"$f":"IF(Sheet1!H38=temp!H38,\"\",Sheet1!H38-temp!H38)","v":1.6000000000000458E-3},{"$f":"IF(Sheet1!I38=temp!I38,\"\",Sheet1!I38-temp!I38)","v":-9.9999999999988987E-4},{"$f":"IF(Sheet1!J38=temp!J38,\"\",Sheet1!J38-temp!J38)","v":""},{"$f":"IF(Sheet1!K38=temp!K38,\"\",Sheet1!K38-temp!K38)","v":""},{"$f":"IF(Sheet1!L38=temp!L38,\"\",Sheet1!L38-temp!L38)","v":""},{"$f":"IF(Sheet1!M38=temp!M38,\"\",Sheet1!M38-temp!M38)","v":""},{"$f":"IF(Sheet1!N38=temp!N38,\"\",Sheet1!N38-temp!N38)","v":""},{"$f":"IF(Sheet1!O38=temp!O38,\"\",Sheet1!O38-temp!O38)","v":1.9999999999999185E-5},{"$f":"IF(Sheet1!P38=temp!P38,\"\",Sheet1!P38-temp!P38)","v":9.9999999999995925E-6},{"$f":"IF(Sheet1!Q38=temp!Q38,\"\",1/Sheet1!Q38-1/temp!Q38)","v":4},{"$f":"IF(Sheet1!R38=temp!R38,\"\",1/Sheet1!R38-1/temp!R38)","v":6},{"$f":"IF(Sheet1!S38=temp!S38,\"\",1/Sheet1!S38-1/temp!S38)","v":8},{"$f":"IF(Sheet1!T38=temp!T38,\"\",1/Sheet1!T38-1/temp!T38)","v":8},{"$f":"IF(Sheet1!U38=temp!U38,\"\",Sheet1!U38-temp!U38)","v":""},{"$f":"IF(Sheet1!V38=temp!V38,\"\",Sheet1!V38-temp!V38)","v":""}]
[null,{"$f":"IF(Sheet1!B39=temp!B39,\"\",Sheet1!B39-temp!B39)","v":""},{"$f":"IF(Sheet1!C39=temp!C39,\"\",Sheet1!C39-temp!C39)","v":""},{"$f":"IF(Sheet1!D39=temp!D39,\"\",Sheet1!D39-temp!D39)","v":3.9400000000000546},{"$f":"IF(Sheet1!E39=temp!E39,\"\",Sheet1!E39-temp!E39)","v":""},{"$f":"IF(Sheet1!F39=temp!F39,\"\",Sheet1!F39-temp!F39)","v":3.7000000000000366E-3},{"$f":"IF(Sheet1!G39=temp!G39,\"\",Sheet1!G39-temp!G39)","v":-2.4999999999999467E-3},{"$f":"IF(Sheet1!H39=temp!H39,\"\",Sheet1!H39-temp!H39)","v":1.7000000000000348E-3},{"$f":"IF(Sheet1!I39=temp!I39,\"\",Sheet1!I39-temp!I39)","v":-1.0999999999998789E-3},{"$f":"IF(Sheet1!J39=temp!J39,\"\",Sheet1!J39-temp!J39)","v":""},{"$f":"IF(Sheet1!K39=temp!K39,\"\",Sheet1!K39-temp!K39)","v":""},{"$f":"IF(Sheet1!L39=temp!L39,\"\",Sheet1!L39-temp!L39)","v":4.0000000000000036E-2},{"$f":"IF(Sheet1!M39=temp!M39,\"\",Sheet1!M39-temp!M39)","v":""},{"$f":"IF(Sheet1!N39=temp!N39,\"\",Sheet1!N39-temp!N39)","v":""},{"$f":"IF(Sheet1!O39=temp!O39,\"\",Sheet1!O39-temp!O39)","v":2.9999999999998778E-5},{"$f":"IF(Sheet1!P39=temp!P39,\"\",Sheet1!P39-temp!P39)","v":1.0000000000003062E-5},{"$f":"IF(Sheet1!Q39=temp!Q39,\"\",1/Sheet1!Q39-1/temp!Q39)","v":6},{"$f":"IF(Sheet1!R39=temp!R39,\"\",1/Sheet1!R39-1/temp!R39)","v":3},{"$f":"IF(Sheet1!S39=temp!S39,\"\",1/Sheet1!S39-1/temp!S39)","v":10.999999999999545},{"$f":"IF(Sheet1!T39=temp!T39,\"\",1/Sheet1!T39-1/temp!T39)","v":7},{"$f":"IF(Sheet1!U39=temp!U39,\"\",Sheet1!U39-temp!U39)","v":""},{"$f":"IF(Sheet1!V39=temp!V39,\"\",Sheet1!V39-temp!V39)","v":""}]
[null,{"$f":"IF(Sheet1!B40=temp!B40,\"\",Sheet1!B40-temp!B40)","v":""},{"$f":"IF(Sheet1!C40=temp!C40,\"\",Sheet1!C40-temp!C40)","v":""},{"$f":"IF(Sheet1!D40=temp!D40,\"\",Sheet1!D40-temp!D40)","v":3.9400000000000546},{"$f":"IF(Sheet1!E40=temp!E40,\"\",Sheet1!E40-temp!E40)","v":""},{"$f":"IF(Sheet1!F40=temp!F40,\"\",Sheet1!F40-temp!F40)","v":3.9000000000000146E-3},{"$f":"IF(Sheet1!G40=temp!G40,\"\",Sheet1!G40-temp!G40)","v":-2.6999999999999247E-3},{"$f":"IF(Sheet1!H40=temp!H40,\"\",Sheet1!H40-temp!H40)","v":1.6000000000000458E-3},{"$f":"IF(Sheet1!I40=temp!I40,\"\",Sheet1!I40-temp!I40)","v":-1.2999999999998568E-3},{"$f":"IF(Sheet1!J40=temp!J40,\"\",Sheet1!J40-temp!J40)","v":""},{"$f":"IF(Sheet1!K40=temp!K40,\"\",Sheet1!K40-temp!K40)","v":""},{"$f":"IF(Sheet1!L40=temp!L40,\"\",Sheet1!L40-temp!L40)","v":5.0000000000000044E-2},{"$f":"IF(Sheet1!M40=temp!M40,\"\",Sheet1!M40-temp!M40)","v":""},{"$f":"IF(Sheet1!N40=temp!N40,\"\",Sheet1!N40-temp!N40)","v":""},{"$f":"IF(Sheet1!O40=temp!O40,\"\",Sheet1!O40-temp!O40)","v":2.9999999999998778E-5},{"$f":"IF(Sheet1!P40=temp!P40,\"\",Sheet1!P40-temp!P40)","v":9.9999999999995925E-6},{"$f":"IF(Sheet1!Q40=temp!Q40,\"\",1/Sheet1!Q40-1/temp!Q40)","v":9},{"$f":"IF(Sheet1!R40=temp!R40,\"\",1/Sheet1!R40-1/temp!R40)","v":1},{"$f":"IF(Sheet1!S40=temp!S40,\"\",1/Sheet1!S40-1/temp!S40)","v":16.000000000000455},{"$f":"IF(Sheet1!T40=temp!T40,\"\",1/Sheet1!T40-1/temp!T40)","v":7.0000000000002274},{"$f":"IF(Sheet1!U40=temp!U40,\"\",Sheet1!U40-temp!U40)","v":""},{"$f":"IF(Sheet1!V40=temp!V40,\"\",Sheet1!V40-temp!V40)","v":""}]
[null,{"$f":"IF(Sheet1!B41=temp!B41,\"\",Sheet1!B41-temp!B41)","v":""},{"$f":"IF(Sheet1!C41=temp!C41,\"\",Sheet1!C41-temp!C41)","v":""},{"$f":"IF(Sheet1!D41=temp!D41,\"\",Sheet1!D41-temp!D41)","v":3.9400000000000546},{"$f":"IF(Sheet1!E41=temp!E41,\"\",Sheet1!E41-temp!E41)","v":""},{"$f":"IF(Sheet1!F41=temp!F41,\"\",Sheet1!F41-temp!F41)","v":3.3999999999998476E-3},{"$f":"IF(Sheet1!G41=temp!G41,\"\",Sheet1!G41-temp!G41)","v":-3.7000000000000366E-3},{"$f":"IF(Sheet1!H41=temp!H41,\"\",Sheet1!H41-temp!H41)","v":1.2000000000000899E-3},{"$f":"IF(Sheet1!I41=temp!I41,\"\",Sheet1!I41-temp!I41)","v":-1.9000000000000128E-3},{"$f":"IF(Sheet1!J41=temp!J41,\"\",Sheet1!J41-temp!J41)","v":""},{"$f":"IF(Sheet1!K41=temp!K41,\"\",Sheet1!K41-temp!K41)","v":1.0000000000000009E-2},{"$f":"IF(Sheet1!L41=temp!L41,\"\",Sheet1!L41-temp!L41)","v":-0.10000000000000009},{"$f":"IF(Sheet1!M41=temp!M41,\"\",Sheet1!M41-temp!M41)","v":""},{"$f":"IF(Sheet1!N41=temp!N41,\"\",Sheet1!N41-temp!N41)","v":""},{"$f":"IF(Sheet1!O41=temp!O41,\"\",Sheet1!O41-temp!O41)","v":3.999999999999837E-5},{"$f":"IF(Sheet1!P41=temp!P41,\"\",Sheet1!P41-temp!P41)","v":9.9999999999995925E-6},{"$f":"IF(Sheet1!Q41=temp!Q41,\"\",1/Sheet1!Q41-1/temp!Q41)","v":12.000000000000455},{"$f":"IF(Sheet1!R41=temp!R41,\"\",1/Sheet1!R41-1/temp!R41)","v":-2.9999999999995453},{"$f":"IF(Sheet1!S41=temp!S41,\"\",1/Sheet1!S41-1/temp!S41)","v":19.999999999999545},{"$f":"IF(Sheet1!T41=temp!T41,\"\",1/Sheet1!T41-1/temp!T41)","v":-46},{"$f":"IF(Sheet1!U41=temp!U41,\"\",Sheet1!U41-temp!U41)","v":""},{"$f":"IF(Sheet1!V41=temp!V41,\"\",Sheet1!V41-temp!V41)","v":""}]
[null,{"$f":"IF(Sheet1!B42=temp!B42,\"\",Sheet1!B42-temp!B42)","v":""},{"$f":"IF(Sheet1!C42=temp!C42,\"\",Sheet1!C42-temp!C42)","v":""},{"$f":"IF(Sheet1!D42=temp!D42,\"\",Sheet1!D42-temp!D42)","v":3.9400000000000546},{"$f":"IF(Sheet1!E42=temp!E42,\"\",Sheet1!E42-temp!E42)","v":""},{"$f":"IF(Sheet1!F42=temp!F42,\"\",Sheet1!F42-temp!F42)","v":-4.9999999999994493E-4},{"$f":"IF(Sheet1!G42=temp!G42,\"\",Sheet1!G42-temp!G42)","v":-8.0000000000013394E-4},{"$f":"IF(Sheet1!H42=temp!H42,\"\",Sheet1!H42-temp!H42)","v":-1.7000000000000348E-3},{"$f":"IF(Sheet1!I42=temp!I42,\"\",Sheet1!I42-temp!I42)","v":-6.9999999999992291E-4},{"$f":"IF(Sheet1!J42=temp!J42,\"\",Sheet1!J42-temp!J42)","v":""},{"$f":"IF(Sheet1!K42=temp!K42,\"\",Sheet1!K42-temp!K42)","v":-1.0000000000000009E-2},{"$f":"IF(Sheet1!L42=temp!L42,\"\",Sheet1!L42-temp!L42)","v":4.9999999999999933E-2},{"$f":"IF(Sheet1!M42=temp!M42,\"\",Sheet1!M42-temp!M42)","v":""},{"$f":"IF(Sheet1!N42=temp!N42,\"\",Sheet1!N42-temp!N42)","v":""},{"$f":"IF(Sheet1!O42=temp!O42,\"\",Sheet1!O42-temp!O42)","v":4.000000000000184E-5},{"$f":"IF(Sheet1!P42=temp!P42,\"\",Sheet1!P42-temp!P42)","v":9.9999999999995925E-6},{"$f":"IF(Sheet1!Q42=temp!Q42,\"\",1/Sheet1!Q42-1/temp!Q42)","v":8.9999999999995453},{"$f":"IF(Sheet1!R42=temp!R42,\"\",1/Sheet1!R42-1/temp!R42)","v":-6},{"$f":"IF(Sheet1!S42=temp!S42,\"\",1/Sheet1!S42-1/temp!S42)","v":15},{"$f":"IF(Sheet1!T42=temp!T42,\"\",1/Sheet1!T42-1/temp!T42)","v":-62},{"$f":"IF(Sheet1!U42=temp!U42,\"\",Sheet1!U42-temp!U42)","v":""},{"$f":"IF(Sheet1!V42=temp!V42,\"\",Sheet1!V42-temp!V42)","v":""}]
[null,{"$f":"IF(Sheet1!B43=temp!B43,\"\",Sheet1!B43-temp!B43)","v":""},{"$f":"IF(Sheet1!C43=temp!C43,\"\",Sheet1!C43-temp!C43)","v":""},{"$f":"IF(Sheet1!D43=temp!D43,\"\",Sheet1!D43-temp!D43)","v":""},{"$f":"IF(Sheet1!E43=temp!E43,\"\",Sheet1!E43-temp!E43)","v":""},{"$f":"IF(Sheet1!F43=temp!F43,\"\",Sheet1!F43-temp!F43)","v":-9.100000000000108E-3},{"$f":"IF(Sheet1!G43=temp!G43,\"\",Sheet1!G43-temp!G43)","v":1.5000000000000568E-3},{"$f":"IF(Sheet1!H43=temp!H43,\"\",Sheet1!H43-temp!H43)","v":-1.4699999999999935E-2},{"$f":"IF(Sheet1!I43=temp!I43,\"\",Sheet1!I43-temp!I43)","v":2.3999999999999577E-3},{"$f":"IF(Sheet1!J43=temp!J43,\"\",Sheet1!J43-temp!J43)","v":""},{"$f":"IF(Sheet1!K43=temp!K43,\"\",Sheet1!K43-temp!K43)","v":-1.0000000000000009E-2},{"$f":"IF(Sheet1!L43=temp!L43,\"\",Sheet1!L43-temp!L43)","v":-5.0000000000000044E-2},{"$f":"IF(Sheet1!M43=temp!M43,\"\",Sheet1!M43-temp!M43)","v":""},{"$f":"IF(Sheet1!N43=temp!N43,\"\",Sheet1!N43-temp!N43)","v":""},{"$f":"IF(Sheet1!O43=temp!O43,\"\",Sheet1!O43-temp!O43)","v":3.999999999999837E-5},{"$f":"IF(Sheet1!P43=temp!P43,\"\",Sheet1!P43-temp!P43)","v":9.9999999999995925E-6},{"$f":"IF(Sheet1!Q43=temp!Q43,\"\",1/Sheet1!Q43-1/temp!Q43)","v":-18},{"$f":"IF(Sheet1!R43=temp!R43,\"\",1/Sheet1!R43-1/temp!R43)","v":1},{"$f":"IF(Sheet1!S43=temp!S43,\"\",1/Sheet1!S43-1/temp!S43)","v":-17},{"$f":"IF(Sheet1!T43=temp!T43,\"\",1/Sheet1!T43-1/temp!T43)","v":12.000000000000909},{"$f":"IF(Sheet1!U43=temp!U43,\"\",Sheet1!U43-temp!U43)","v":""},{"$f":"IF(Sheet1!V43=temp!V43,\"\",Sheet1!V43-temp!V43)","v":""}]
[null,{"$f":"IF(Sheet1!B44=temp!B44,\"\",Sheet1!B44-temp!B44)","v":""},{"$f":"IF(Sheet1!C44=temp!C44,\"\",Sheet1!C44-temp!C44)","v":""},{"$f":"IF(Sheet1!D44=temp!D44,\"\",Sheet1!D44-temp!D44)","v":""},{"$f":"IF(Sheet1!E44=temp!E44,\"\",Sheet1!E44-temp!E44)","v":""},{"$f":"IF(Sheet1!F44=temp!F44,\"\",Sheet1!F44-temp!F44)","v":-6.4899999999999736E-2},{"$f":"IF(Sheet1!G44=temp!G44,\"\",Sheet1!G44-temp!G44)","v":-5.9999999999997833E-3},{"$f":"IF(Sheet1!H44=temp!H44,\"\",Sheet1!H44-temp!H44)","v":-1.4599999999999724E-2},{"$f":"IF(Sheet1!I44=temp!I44,\"\",Sheet1!I44-temp!I44)","v":-6.4000000000001833E-3},{"$f":"IF(Sheet1!J44=temp!J44,\"\",Sheet1!J44-temp!J44)","v":""},{"$f":"IF(Sheet1!K44=temp!K44,\"\",Sheet1!K44-temp!K44)","v":""},{"$f":"IF(Sheet1!L44=temp!L44,\"\",Sheet1!L44-temp!L44)","v":-1.0000000000000009E-2},{"$f":"IF(Sheet1!M44=temp!M44,\"\",Sheet1!M44-temp!M44)","v":""},{"$f":"IF(Sheet1!N44=temp!N44,\"\",Sheet1!N44-temp!N44)","v":""},{"$f":"IF(Sheet1!O44=temp!O44,\"\",Sheet1!O44-temp!O44)","v":5.0000000000001432E-5},{"$f":"IF(Sheet1!P44=temp!P44,\"\",Sheet1!P44-temp!P44)","v":9.9999999999995925E-6},{"$f":"IF(Sheet1!Q44=temp!Q44,\"\",1/Sheet1!Q44-1/temp!Q44)","v":""},{"$f":"IF(Sheet1!R44=temp!R44,\"\",1/Sheet1!R44-1/temp!R44)","v":""},{"$f":"IF(Sheet1!S44=temp!S44,\"\",1/Sheet1!S44-1/temp!S44)","v":""},{"$f":"IF(Sheet1!T44=temp!T44,\"\",1/Sheet1!T44-1/temp!T44)","v":5.999999999998181},{"$f":"IF(Sheet1!U44=temp!U44,\"\",Sheet1!U44-temp!U44)","v":""},{"$f":"IF(Sheet1!V44=temp!V44,\"\",Sheet1!V44-temp!V44)","v":""}]
[null,{"$f":"IF(Sheet1!B45=temp!B45,\"\",Sheet1!B45-temp!B45)","v":""},{"$f":"IF(Sheet1!C45=temp!C45,\"\",Sheet1!C45-temp!C45)","v":""},{"$f":"IF(Sheet1!D45=temp!D45,\"\",Sheet1!D45-temp!D45)","v":""},{"$f":"IF(Sheet1!E45=temp!E45,\"\",Sheet1!E45-temp!E45)","v":""},{"$f":"IF(Sheet1!F45=temp!F45,\"\",Sheet1!F45-temp!F45)","v":4.3999999999999595E-3},{"$f":"IF(Sheet1!G45=temp!G45,\"\",Sheet1!G45-temp!G45)","v":3.9999999999995595E-4},{"$f":"IF(Sheet1!H45=temp!H45,\"\",Sheet1!H45-temp!H45)","v":1.7000000000000348E-3},{"$f":"IF(Sheet1!I45=temp!I45,\"\",Sheet1!I45-temp!I45)","v":1.9999999999997797E-4},{"$f":"IF(Sheet1!J45=temp!J45,\"\",Sheet1!J45-temp!J45)","v":""},{"$f":"IF(Sheet1!K45=temp!K45,\"\",Sheet1!K45-temp!K45)","v":""},{"$f":"IF(Sheet1!L45=temp!L45,\"\",Sheet1!L45-temp!L45)","v":""},{"$f":"IF(Sheet1!M45=temp!M45,\"\",Sheet1!M45-temp!M45)","v":""},{"$f":"IF(Sheet1!N45=temp!N45,\"\",Sheet1!N45-temp!N45)","v":""},{"$f":"IF(Sheet1!O45=temp!O45,\"\",Sheet1!O45-temp!O45)","v":5.999999999999929E-5},{"$f":"IF(Sheet1!P45=temp!P45,\"\",Sheet1!P45-temp!P45)","v":9.9999999999995925E-6},{"$f":"IF(Sheet1!Q45=temp!Q45,\"\",1/Sheet1!Q45-1/temp!Q45)","v":""},{"$f":"IF(Sheet1!R45=temp!R45,\"\",1/Sheet1!R45-1/temp!R45)","v":""},{"$f":"IF(Sheet1!S45=temp!S45,\"\",1/Sheet1!S45-1/temp!S45)","v":""},{"$f":"IF(Sheet1!T45=temp!T45,\"\",1/Sheet1!T45-1/temp!T45)","v":""},{"$f":"IF(Sheet1!U45=temp!U45,\"\",Sheet1!U45-temp!U45)","v":""},{"$f":"IF(Sheet1!V45=temp!V45,\"\",Sheet1!V45-temp!V45)","v":""}]
[null,{"$f":"IF(Sheet1!B46=temp!B46,\"\",Sheet1!B46-temp!B46)","v":""},{"$f":"IF(Sheet1!C46=temp!C46,\"\",Sheet1!C46-temp!C46)","v":""},{"$f":"IF(Sheet1!D46=temp!D46,\"\",Sheet1!D46-temp!D46)","v":""},{"$f":"IF(Sheet1!E46=temp!E46,\"\",Sheet1!E46-temp!E46)","v":""},{"$f":"IF(Sheet1!F46=temp!F46,\"\",Sheet1!F46-temp!F46)","v":""},{"$f":"IF(Sheet1!G46=temp!G46,\"\",Sheet1!G46-temp!G46)","v":""},{"$f":"IF(Sheet1!H46=temp!H46,\"\",Sheet1!H46-temp!H46)","v":""},{"$f":"IF(Sheet1!I46=temp!I46,\"\",Sheet1!I46-temp!I46)","v":""},{"$f":"IF(Sheet1!J46=temp!J46,\"\",Sheet1!J46-temp!J46)","v":""},{"$f":"IF(Sheet1!K46=temp!K46,\"\",Sheet1!K46-temp!K46)","v":1.0000000000000009E-2},{"$f":"IF(Sheet1!L46=temp!L46,\"\",Sheet1!L46-temp!L46)","v":3.0000000000000027E-2},{"$f":"IF(Sheet1!M46=temp!M46,\"\",Sheet1!M46-temp!M46)","v":""},{"$f":"IF(Sheet1!N46=temp!N46,\"\",Sheet1!N46-temp!N46)","v":""},{"$f":"IF(Sheet1!O46=temp!O46,\"\",Sheet1!O46-temp!O46)","v":5.999999999999929E-5},{"$f":"IF(Sheet1!P46=temp!P46,\"\",Sheet1!P46-temp!P46)","v":9.9999999999995925E-6},{"$f":"IF(Sheet1!Q46=temp!Q46,\"\",1/Sheet1!Q46-1/temp!Q46)","v":""},{"$f":"IF(Sheet1!R46=temp!R46,\"\",1/Sheet1!R46-1/temp!R46)","v":""},{"$f":"IF(Sheet1!S46=temp!S46,\"\",1/Sheet1!S46-1/temp!S46)","v":""},{"$f":"IF(Sheet1!T46=temp!T46,\"\",1/Sheet1!T46-1/temp!T46)","v":""},{"$f":"IF(Sheet1!U46=temp!U46,\"\",Sheet1!U46-temp!U46)","v":""},{"$f":"IF(Sheet1!V46=temp!V46,\"\",Sheet1!V46-temp!V46)","v":""}]
[null,{"$f":"IF(Sheet1!B47=temp!B47,\"\",Sheet1!B47-temp!B47)","v":""},{"$f":"IF(Sheet1!C47=temp!C47,\"\",Sheet1!C47-temp!C47)","v":""},{"$f":"IF(Sheet1!D47=temp!D47,\"\",Sheet1!D47-temp!D47)","v":""},{"$f":"IF(Sheet1!E47=temp!E47,\"\",Sheet1!E47-temp!E47)","v":""},{"$f":"IF(Sheet1!F47=temp!F47,\"\",Sheet1!F47-temp!F47)","v":-6.4899999999999736E-2},{"$f":"IF(Sheet1!G47=temp!G47,\"\",Sheet1!G47-temp!G47)","v":9.2999999999996419E-3},{"$f":"IF(Sheet1!H47=temp!H47,\"\",Sheet1!H47-temp!H47)","v":-1.4599999999999724E-2},{"$f":"IF(Sheet1!I47=temp!I47,\"\",Sheet1!I47-temp!I47)","v":5.4999999999996163E-3},{"$f":"IF(Sheet1!J47=temp!J47,\"\",Sheet1!J47-temp!J47)","v":""},{"$f":"IF(Sheet1!K47=temp!K47,\"\",Sheet1!K47-temp!K47)","v":""},{"$f":"IF(Sheet1!L47=temp!L47,\"\",Sheet1!L47-temp!L47)","v":""},{"$f":"IF(Sheet1!M47=temp!M47,\"\",Sheet1!M47-temp!M47)","v":""},{"$f":"IF(Sheet1!N47=temp!N47,\"\",Sheet1!N47-temp!N47)","v":""},{"$f":"IF(Sheet1!O47=temp!O47,\"\",Sheet1!O47-temp!O47)","v":-3.999999999999837E-5},{"$f":"IF(Sheet1!P47=temp!P47,\"\",Sheet1!P47-temp!P47)","v":-1.8999999999999573E-4},{"$f":"IF(Sheet1!Q47=temp!Q47,\"\",1/Sheet1!Q47-1/temp!Q47)","v":-3},{"$f":"IF(Sheet1!R47=temp!R47,\"\",1/Sheet1!R47-1/temp!R47)","v":13},{"$f":"IF(Sheet1!S47=temp!S47,\"\",1/Sheet1!S47-1/temp!S47)","v":""},{"$f":"IF(Sheet1!T47=temp!T47,\"\",1/Sheet1!T47-1/temp!T47)","v":9},{"$f":"IF(Sheet1!U47=temp!U47,\"\",Sheet1!U47-temp!U47)","v":""},{"$f":"IF(Sheet1!V47=temp!V47,\"\",Sheet1!V47-temp!V47)","v":""}]
[null,{"$f":"IF(Sheet1!B48=temp!B48,\"\",Sheet1!B48-temp!B48)","v":""},{"$f":"IF(Sheet1!C48=temp!C48,\"\",Sheet1!C48-temp!C48)","v":""},{"$f":"IF(Sheet1!D48=temp!D48,\"\",Sheet1!D48-temp!D48)","v":""},{"$f":"IF(Sheet1!E48=temp!E48,\"\",Sheet1!E48-temp!E48)","v":""},{"$f":"IF(Sheet1!F48=temp!F48,\"\",Sheet1!F48-temp!F48)","v":""},{"$f":"IF(Sheet1!G48=temp!G48,\"\",Sheet1!G48-temp!G48)","v":""},{"$f":"IF(Sheet1!H48=temp!H48,\"\",Sheet1!H48-temp!H48)","v":""},{"$f":"IF(Sheet1!I48=temp!I48,\"\",Sheet1!I48-temp!I48)","v":""},{"$f":"IF(Sheet1!J48=temp!J48,\"\",Sheet1!J48-temp!J48)","v":""},{"$f":"IF(Sheet1!K48=temp!K48,\"\",Sheet1!K48-temp!K48)","v":""},{"$f":"IF(Sheet1!L48=temp!L48,\"\",Sheet1!L48-temp!L48)","v":""},{"$f":"IF(Sheet1!M48=temp!M48,\"\",Sheet1!M48-temp!M48)","v":""},{"$f":"IF(Sheet1!N48=temp!N48,\"\",Sheet1!N48-temp!N48)","v":""},{"$f":"IF(Sheet1!O48=temp!O48,\"\",Sheet1!O48-temp!O48)","v":""},{"$f":"IF(Sheet1!P48=temp!P48,\"\",Sheet1!P48-temp!P48)","v":""},{"$f":"IF(Sheet1!Q48=temp!Q48,\"\",1/Sheet1!Q48-1/temp!Q48)","v":""},{"$f":"IF(Sheet1!R48=temp!R48,\"\",1/Sheet1!R48-1/temp!R48)","v":""},{"$f":"IF(Sheet1!S48=temp!S48,\"\",1/Sheet1!S48-1/temp!S48)","v":""},{"$f":"IF(Sheet1!T48=temp!T48,\"\",1/Sheet1!T48-1/temp!T48)","v":""},{"$f":"IF(Sheet1!U48=temp!U48,\"\",Sheet1!U48-temp!U48)","v":""},{"$f":"IF(Sheet1!V48=temp!V48,\"\",Sheet1!V48-temp!V48)","v":""}]
[null,{"$f":"IF(Sheet1!B49=temp!B49,\"\",Sheet1!B49-temp!B49)","v":""},{"$f":"IF(Sheet1!C49=temp!C49,\"\",Sheet1!C49-temp!C49)","v":""},{"$f":"IF(Sheet1!D49=temp!D49,\"\",Sheet1!D49-temp!D49)","v":""},{"$f":"IF(Sheet1!E49=temp!E49,\"\",Sheet1!E49-temp!E49)","v":""},{"$f":"IF(Sheet1!F49=temp!F49,\"\",Sheet1!F49-temp!F49)","v":""},{"$f":"IF(Sheet1!G49=temp!G49,\"\",Sheet1!G49-temp!G49)","v":""},{"$f":"IF(Sheet1!H49=temp!H49,\"\",Sheet1!H49-temp!H49)","v":""},{"$f":"IF(Sheet1!I49=temp!I49,\"\",Sheet1!I49-temp!I49)","v":""},{"$f":"IF(Sheet1!J49=temp!J49,\"\",Sheet1!J49-temp!J49)","v":""},{"$f":"IF(Sheet1!K49=temp!K49,\"\",Sheet1!K49-temp!K49)","v":""},{"$f":"IF(Sheet1!L49=temp!L49,\"\",Sheet1!L49-temp!L49)","v":""},{"$f":"IF(Sheet1!M49=temp!M49,\"\",Sheet1!M49-temp!M49)","v":""},{"$f":"IF(Sheet1!N49=temp!N49,\"\",Sheet1!N49-temp!N49)","v":""},{"$f":"IF(Sheet1!O49=temp!O49,\"\",Sheet1!O49-temp!O49)","v":""},{"$f":"IF(Sheet1!P49=temp!P49,\"\",Sheet1!P49-temp!P49)","v":""},{"$f":"IF(Sheet1!Q49=temp!Q49,\"\",1/Sheet1!Q49-1/temp!Q49)","v":""},{"$f":"IF(Sheet1!R49=temp!R49,\"\",1/Sheet1!R49-1/temp!R49)","v":""},{"$f":"IF(Sheet1!S49=temp!S49,\"\",1/Sheet1!S49-1/temp!S49)","v":""},{"$f":"IF(Sheet1!T49=temp!T49,\"\",1/Sheet1!T49-1/temp!T49)","v":""},{"$f":"IF(Sheet1!U49=temp!U49,\"\",Sheet1!U49-temp!U49)","v":""},{"$f":"IF(Sheet1!V49=temp!V49,\"\",Sheet1!V49-temp!V49)","v":""}]
[null,{"$f":"IF(Sheet1!B50=temp!B50,\"\",Sheet1!B50-temp!B50)","v":""},{"$f":"IF(Sheet1!C50=temp!C50,\"\",Sheet1!C50-temp!C50)","v":""},{"$f":"IF(Sheet1!D50=temp!D50,\"\",Sheet1!D50-temp!D50)","v":""},{"$f":"IF(Sheet1!E50=temp!E50,\"\",Sheet1!E50-temp!E50)","v":""},{"$f":"IF(Sheet1!F50=temp!F50,\"\",Sheet1!F50-temp!F50)","v":""},{"$f":"IF(Sheet1!G50=temp!G50,\"\",Sheet1!G50-temp!G50)","v":""},{"$f":"IF(Sheet1!H50=temp!H50,\"\",Sheet1!H50-temp!H50)","v":""},{"$f":"IF(Sheet1!I50=temp!I50,\"\",Sheet1!I50-temp!I50)","v":""},{"$f":"IF(Sheet1!J50=temp!J50,\"\",Sheet1!J50-temp!J50)","v":""},{"$f":"IF(Sheet1!K50=temp!K50,\"\",Sheet1!K50-temp!K50)","v":""},{"$f":"IF(Sheet1!L50=temp!L50,\"\",Sheet1!L50-temp!L50)","v":""},{"$f":"IF(Sheet1!M50=temp!M50,\"\",Sheet1!M50-temp!M50)","v":""},{"$f":"IF(Sheet1!N50=temp!N50,\"\",Sheet1!N50-temp!N50)","v":""},{"$f":"IF(Sheet1!O50=temp!O50,\"\",Sheet1!O50-temp!O50)","v":""},{"$f":"IF(Sheet1!P50=temp!P50,\"\",Sheet1!P50-temp!P50)","v":""},{"$f":"IF(Sheet1!Q50=temp!Q50,\"\",1/Sheet1!Q50-1/temp!Q50)","v":""},{"$f":"IF(Sheet1!R50=temp!R50,\"\",1/Sheet1!R50-1/temp!R50)","v":""},{"$f":"IF(Sheet1!S50=temp!S50,\"\",1/Sheet1!S50-1/temp!S50)","v":""},{"$f":"IF(Sheet1!T50=temp!T50,\"\",1/Sheet1!T50-1/temp!T50)","v":""},{"$f":"IF(Sheet1!U50=temp!U50,\"\",Sheet1!U50-temp!U50)","v":""},{"$f":"IF(Sheet1!V50=temp!V50,\"\",Sheet1!V50-temp!V50)","v":""}]
[null,null,null,null,null,null,null,null,null,null,null,null,null,null,null,null,{"$f":"IF(Sheet1!Q51=temp!Q51,\"\",1/Sheet1!Q51-1/temp!Q51)","v":""},{"$f":"IF(Sheet1!R51=temp!R51,\"\",1/Sheet1!R51-1/temp!R51)","v":""},{"$f":"IF(Sheet1!S51=temp!S51,\"\",1/Sheet1!S51-1/temp!S51)","v":""},{"$f":"IF(Sheet1!T51=temp!T51,\"\",1/Sheet1!T51-1/temp!T51)","v":""}]
[null,null,null,null,null,null,null,null,null,null,null,null,null,null,null,null,{"$f":"IF(Sheet1!Q52=temp!Q52,\"\",1/Sheet1!Q52-1/temp!Q52)","v":""},{"$f":"IF(Sheet1!R52=temp!R52,\"\",1/Sheet1!R52-1/temp!R52)","v":""},{"$f":"IF(Sheet1!S52=temp!S52,\"\",1/Sheet1!S52-1/temp!S52)","v":""},{"$f":"IF(Sheet1!T52=temp!T52,\"\",1/Sheet1!T52-1/temp!T52)","v":""}]
[null,null,null,null,null,null,null,null,null,null,null,null,null,null,null,null,{"$f":"IF(Sheet1!Q53=temp!Q53,\"\",1/Sheet1!Q53-1/temp!Q53)","v":""},{"$f":"IF(Sheet1!R53=temp!R53,\"\",1/Sheet1!R53-1/temp!R53)","v":""},{"$f":"IF(Sheet1!S53=temp!S53,\"\",1/Sheet1!S53-1/temp!S53)","v":""},{"$f":"IF(Sheet1!T53=temp!T53,\"\",1/Sheet1!T53-1/temp!T53)","v":""}]